Workbook

Sheet ТЭБ 2025-2030
A1: Сводный прогнозный топливно-энергетический баланс МО "Город Отрадное" на 2025-2030 годы (т у.т.) | B1: Индекс строки | C1: Всего за 2025 год | D1: Всего за 2026 год | E1: Всего за 2027 год | F1: Всего за 2030 год
C2: 1 | D2: 2 | E2: 3 | F2: 4
A3: Производство энергетических ресурсов | B3: 1 | C3: ='ТЭБ 2025'!L3 -> 0 | D3: ='ТЭБ 2026'!L3 -> 0 | E3: ='ТЭБ 2027'!L3 -> 0 | F3: ='ТЭБ 2030'!L3 -> 0
A4: Ввоз | B4: 2 | C4: ='ТЭБ 2025'!L4 -> 61907.2 | D4: ='ТЭБ 2026'!L4 -> 61964.8 | E4: ='ТЭБ 2027'!L4 -> 62047.8 | F4: ='ТЭБ 2030'!L4 -> 62272
A5: Вывоз | B5: 3 | C5: ='ТЭБ 2025'!L5 -> 0 | D5: ='ТЭБ 2026'!L5 -> 0 | E5: ='ТЭБ 2027'!L5 -> 0 | F5: ='ТЭБ 2030'!L5 -> 0
A6: Изменение запасов | B6: 4 | C6: ='ТЭБ 2025'!L6 -> 15 | D6: ='ТЭБ 2026'!L6 -> 10 | E6: ='ТЭБ 2027'!L6 -> -2 | F6: ='ТЭБ 2030'!L6 -> 0
A7: Потребление первичной энергии | B7: 5 | C7: ='ТЭБ 2025'!L7 -> 61922.2 | D7: ='ТЭБ 2026'!L7 -> 61974.8 | E7: ='ТЭБ 2027'!L7 -> 62045.8 | F7: ='ТЭБ 2030'!L7 -> 62272
A8: Статистическое расхождение | B8: 6 | C8: ='ТЭБ 2025'!L8 -> 0 | D8: ='ТЭБ 2026'!L8 -> 0 | E8: ='ТЭБ 2027'!L8 -> 0 | F8: ='ТЭБ 2030'!L8 -> 0
A9: Производство электрической энергии | B9: 7 | C9: ='ТЭБ 2025'!L9 -> 0 | D9: ='ТЭБ 2026'!L9 -> 0 | E9: ='ТЭБ 2027'!L9 -> 0 | F9: ='ТЭБ 2030'!L9 -> 0
A10: Производство тепловой энергии | B10: 8 | C10: ='ТЭБ 2025'!L10 -> -1498.5908 | D10: ='ТЭБ 2026'!L10 -> -1455.4815 | E10: ='ТЭБ 2027'!L10 -> -1458.4834 | F10: ='ТЭБ 2030'!L10 -> -1466.3949
A11: Теплоэлектростанции | B11: 8.1 | C11: ='ТЭБ 2025'!L11 -> 0 | D11: ='ТЭБ 2026'!L11 -> 0 | E11: ='ТЭБ 2027'!L11 -> 0 | F11: ='ТЭБ 2030'!L11 -> 0
A12: Котельные | B12: 8.2 | C12: ='ТЭБ 2025'!L12 -> -1498.5908 | D12: ='ТЭБ 2026'!L12 -> -1455.4815 | E12: ='ТЭБ 2027'!L12 -> -1458.4834 | F12: ='ТЭБ 2030'!L12 -> -1466.3949
A13: Электрокотельные и теплоустановки | B13: 8.3 | C13: ='ТЭБ 2025'!L13 -> 0 | D13: ='ТЭБ 2026'!L13 -> 0 | E13: ='ТЭБ 2027'!L13 -> 0 | F13: ='ТЭБ 2030'!L13 -> 0
A14: Преобразование энергетических ресурсов | B14: 9 | C14: ='ТЭБ 2025'!L14 -> 0 | D14: ='ТЭБ 2026'!L14 -> 0 | E14: ='ТЭБ 2027'!L14 -> 0 | F14: ='ТЭБ 2030'!L14 -> 0
... A33: Использование ТЭР в качестве сырья и на нетопливные нужды | B33: 19 | C33: ='ТЭБ 2025'!L33 -> 5.5 | D33: ='ТЭБ 2026'!L33 -> 5.4 | E33: ='ТЭБ 2027'!L33 -> 5 | F33: ='ТЭБ 2030'!L33 -> 4.9

Sheet ТЭБ 2025
A1: Прогнозный топливно-энергетический баланс МО "Город Отрадное" на 2025 г. (т у.т.) | B1: Индекс строки | C1: Уголь | D1: Сырая нефть | E1: Нефте-продукты | F1: Природный газ | G1: Прочее твердое топливо | H1: Гидроэнергия и НВИЭ | I1: Атомная энергия | J1: Электри-ческая энергия | K1: Тепловая энергия | L1: Всего
C2: 1 | D2: 2 | E2: 3 | F2: 4 | G2: 5 | H2: 6 | I2: 7 | J2: 8 | K2: 9 | L2: 10
A3: Производство энергетических ресурсов | B3: 1 | C3: 0 | D3: 0 | E3: =Нефтепродукты!D3 -> 0 | F3: =Газ!D3 -> 0 | G3: =ПТТ!D3 -> 0 | H3: 0 | I3: 0 | J3: =Электроэнергия!D3 -> 0 | K3: =Тепло!D3 -> 0 | L3: =SUM(C3:K3) -> 0
A4: Ввоз | B4: 2 | C4: 0 | D4: 0 | E4: =Нефтепродукты!D4 -> 5936.8 | F4: =Газ!D4 -> 39350.7 | G4: =ПТТ!D4 -> 146.4 | H4: 0 | I4: 0 | J4: =Электроэнергия!D4 -> 16414.8 | K4: =Тепло!D4 -> 58.5 | L4: =SUM(C4:K4) -> 61907.2
A5: Вывоз | B5: 3 | C5: 0 | D5: 0 | E5: =Нефтепродукты!D5 -> 0 | F5: =Газ!D5 -> 0 | G5: =ПТТ!D5 -> 0 | H5: 0 | I5: 0 | J5: =Электроэнергия!D5 -> 0 | K5: =Тепло!D5 -> 0 | L5: =SUM(C5:K5) -> 0
A6: Изменение запасов | B6: 4 | C6: 0 | D6: 0 | E6: =Нефтепродукты!D6 -> 12 | F6: =Газ!D6 -> 0 | G6: =ПТТ!D6 -> 3 | H6: 0 | I6: 0 | J6: =Электроэнергия!D6 -> 0 | K6: =Тепло!D6 -> 0 | L6: =SUM(C6:K6) -> 15
A7: Потребление первичной энергии | B7: 5 | C7: =SUM(C3:C6) -> 0 | D7: =SUM(D3:D6) -> 0 | E7: =SUM(E3:E6) -> 5948.8 | F7: =SUM(F3:F6) -> 39350.7 | G7: =SUM(G3:G6) -> 149.4 | H7: =SUM(H3:H6) -> 0 | I7: =SUM(I3:I6) -> 0 | J7: =SUM(J3:J6) -> 16414.8 | K7: =SUM(K3:K6) -> 58.5 | L7: =SUM(C7:K7) -> 61922.2
A8: Статистическое расхождение | B8: 6 | C8: =ROUND(C7+C9+C10+C14+C18+C19-C20,1) -> 0 | D8: =ROUND(D7+D9+D10+D14+D18+D19-D20,1) -> 0 | E8: =ROUND(E7+E9+E10+E14+E18+E19-E20,1) -> 0 | F8: =ROUND(F7+F9+F10+F14+F18+F19-F20,1) -> 0 | G8: =ROUND(G7+G9+G10+G14+G18+G19-G20,1) -> 0 | H8: =ROUND(H7+H9+H10+H14+H18+H19-H20,1) -> 0 | I8: =ROUND(I7+I9+I10+I14+I18+I19-I20,1) -> 0 | J8: =ROUND(J7+J9+J10+J14+J18+J19-J20,1) -> 0 | K8: =ROUND(K7+K9+K10+K14+K18+K19-K20,1) -> 0 | L8: =SUM(C8:K8) -> 0
A9: Производство электрической энергии | B9: 7 | C9: 0 | D9: 0 | E9: =Нефтепродукты!D9 -> 0 | F9: =Газ!D9 -> 0 | G9: =ПТТ!D9 -> 0 | H9: 0 | I9: 0 | J9: =Электроэнергия!D9 -> 0 | K9: =Тепло!D9 -> 0 | L9: =SUM(C9:K9) -> 0
A10: Производство тепловой энергии | B10: 8 | C10: =SUM(C11:C13) -> 0 | D10: =SUM(D11:D13) -> 0 | E10: =SUM(E11:E13) -> -48 | F10: =SUM(F11:F13) -> -16923.2 | G10: =SUM(G11:G13) -> 0 | H10: =SUM(H11:H13) -> 0 | I10: =SUM(I11:I13) -> 0 | J10: =SUM(J11:J13) -> -147.39081 | K10: =SUM(K11:K13) -> 15620 | L10: =SUM(C10:K10) -> -1498.5908
A11: Теплоэлектростанции | B11: 8.1 | C11: 0 | D11: 0 | E11: =Нефтепродукты!D11 -> 0 | F11: =Газ!D11 -> 0 | G11: =ПТТ!D11 -> 0 | H11: 0 | I11: 0 | J11: =Электроэнергия!D11 -> 0 | K11: =Тепло!D11 -> 0 | L11: =SUM(C11:K11) -> 0
A12: Котельные | B12: 8.2 | C12: 0 | D12: 0 | E12: =Нефтепродукты!D12 -> -48 | F12: =Газ!D12 -> -16923.2 | G12: =ПТТ!D12 -> 0 | H12: 0 | I12: 0 | J12: =Электроэнергия!D12 -> -147.39081 | K12: =Тепло!D12 -> 15620 | L12: =SUM(C12:K12) -> -1498.5908
A13: Электрокотельные и теплоустановки | B13: 8.3 | C13: 0 | D13: 0 | E13: =Нефтепродукты!D13 -> 0 | F13: =Газ!D13 -> 0 | G13: =ПТТ!D13 -> 0 | H13: 0 | I13: 0 | J13: =Электроэнергия!D13 -> 0 | K13: =Тепло!D13 -> 0 | L13: =SUM(C13:K13) -> 0
A14: Преобразование энергетических ресурсов | B14: 9 | C14: =SUM(C15:C17) -> 0 | D14: =SUM(D15:D17) -> 0 | E14: =SUM(E15:E17) -> 0 | F14: =SUM(F15:F17) -> 0 | G14: =SUM(G15:G17) -> 0 | H14: =SUM(H15:H17) -> 0 | I14: =SUM(I15:I17) -> 0 | J14: =SUM(J15:J17) -> 0 | K14: =SUM(K15:K17) -> 0 | L14: =SUM(C14:K14) -> 0
A15: Переработка нефти | B15: 9.1 | C15: 0 | D15: 0 | E15: =Нефтепродукты!D15 -> 0 | F15: =Газ!D15 -> 0 | G15: =ПТТ!D15 -> 0 | H15: 0 | I15: 0 | J15: =Электроэнергия!D15 -> 0 | K15: =Тепло!D15 -> 0 | L15: =SUM(C15:K15) -> 0
A16: Переработка газа | B16: 9.2 | C16: 0 | D16: 0 | E16: =Нефтепродукты!D16 -> 0 | F16: =Газ!D16 -> 0 | G16: =ПТТ!D16 -> 0 | H16: 0 | I16: 0 | J16: =Электроэнергия!D16 -> 0 | K16: =Тепло!D16 -> 0 | L16: =SUM(C16:K16) -> 0
A17: Обогащение угля | B17: 9.3 | C17: 0 | D17: 0 | E17: =Нефтепродукты!D17 -> 0 | F17: =Газ!D17 -> 0 | G17: =ПТТ!D17 -> 0 | H17: 0 | I17: 0 | J17: =Электроэнергия!D17 -> 0 | K17: =Тепло!D17 -> 0 | L17: =SUM(C17:K17) -> 0
A18: Собственные нужды | B18: 10 | C18: 0 | D18: 0 | E18: =Нефтепродукты!D18 -> 0 | F18: =Газ!D18 -> 0 | G18: =ПТТ!D18 -> 0 | H18: 0 | I18: 0 | J18: =Электроэнергия!D18 -> 0 | K18: =Тепло!D18 -> -690.5 | L18: =SUM(C18:K18) -> -690.5
A19: Потери при передаче | B19: 11 | C19: 0 | D19: 0 | E19: =Нефтепродукты!D19 -> 0 | F19: =Газ!D19 -> 0 | G19: =ПТТ!D19 -> 0 | H19: 0 | I19: 0 | J19: =Электроэнергия!D19 -> -1491.7 | K19: =Тепло!D19 -> -1237.6 | L19: =SUM(C19:K19) -> -2729.3
A20: Конечное потребление энергетических ресурсов | B20: 12 | C20: =C21+C22+C25+C26+C31+C32+C33 -> 0 | D20: =D21+D22+D25+D26+D31+D32+D33 -> 0 | E20: =E21+E22+E25+E26+E31+E32+E33 -> 5900.8 | F20: =F21+F22+F25+F26+F31+F32+F33 -> 22427.5 | G20: =G21+G22+G25+G26+G31+G32+G33 -> 149.4 | H20: =H21+H22+H25+H26+H31+H32+H33 -> 0 | I20: =I21+I22+I25+I26+I31+I32+I33 -> 0 | J20: =J21+J22+J25+J26+J31+J32+J33 -> 14775.7 | ... L20: =L21+L22+L25+L26+L31+L32+L33 -> 57003.8
A21: Сельское хозяйство, рыболовство и рыбоводство | B21: 13 | C21: 0 | D21: 0 | E21: =Нефтепродукты!D21 -> 0 | F21: =Газ!D21 -> 0 | G21: =ПТТ!D21 -> 0 | H21: 0 | I21: 0 | J21: =Электроэнергия!D21 -> 0 | K21: =Тепло!D21 -> 0 | L21: =SUM(C21:K21) -> 0
A22: Промышленность | B22: 14 | C22: =SUM(C23:C24) -> 0 | D22: =SUM(D23:D24) -> 0 | E22: =SUM(E23:E24) -> 1264.6 | F22: =SUM(F23:F24) -> 10400.4 | G22: =SUM(G23:G24) -> 30 | H22: =SUM(H23:H24) -> 0 | I22: =SUM(I23:I24) -> 0 | J22: =SUM(J23:J24) -> 9698.9 | K22: =SUM(K23:K24) -> 291.1 | L22: =SUM(C22:K22) -> 21685
A23: Продукция обрабатывающих производств | B23: 14.1 | C23: 0 | D23: 0 | E23: =Нефтепродукты!D23 -> 0 | F23: =Газ!D23 -> 9144.8 | G23: =ПТТ!D23 -> 0 | H23: 0 | I23: 0 | J23: =Электроэнергия!D23 -> 6268.9 | K23: =Тепло!D23 -> 131.9 | L23: =SUM(C23:K23) -> 15545.6
A24: Продукция прочих производств | B24: 14.2 | C24: 0 | D24: 0 | E24: =Нефтепродукты!D24 -> 1264.6 | F24: =Газ!D24 -> 1255.6 | G24: =ПТТ!D24 -> 30 | H24: 0 | I24: 0 | J24: =Электроэнергия!D24 -> 3430 | K24: =Тепло!D24 -> 159.2 | L24: =SUM(C24:K24) -> 6139.4
A25: Строительство | B25: 15 | C25: 0 | D25: 0 | E25: =Нефтепродукты!D25 -> 0 | F25: =Газ!D25 -> 1018 | G25: =ПТТ!D25 -> 0 | H25: 0 | I25: 0 | J25: =Электроэнергия!D25 -> 62.8 | K25: =Тепло!D25 -> 27 | L25: =SUM(C25:K25) -> 1107.8
A26: Транспорт и связь | B26: 16 | C26: =SUM(C27:C30) -> 0 | D26: =SUM(D27:D30) -> 0 | E26: =SUM(E27:E30) -> 2846.9 | F26: =SUM(F27:F30) -> 0 | G26: =SUM(G27:G30) -> 0 | H26: =SUM(H27:H30) -> 0 | I26: =SUM(I27:I30) -> 0 | J26: =SUM(J27:J30) -> 32.6 | K26: =SUM(K27:K30) -> 51.2 | L26: =SUM(C26:K26) -> 2930.7
A27: Железнодорожный | B27: 16.1 | C27: 0 | D27: 0 | E27: =Нефтепродукты!D27 -> 0 | F27: =Газ!D27 -> 0 | G27: =ПТТ!D27 -> 0 | H27: 0 | I27: 0 | J27: =Электроэнергия!D27 -> 0 | K27: =Тепло!D27 -> 0 | L27: =SUM(C27:K27) -> 0
A28: Трубопроводный | B28: 16.2 | C28: 0 | D28: 0 | E28: =Нефтепродукты!D28 -> 0 | F28: =Газ!D28 -> 0 | G28: =ПТТ!D28 -> 0 | H28: 0 | I28: 0 | J28: =Электроэнергия!D28 -> 0 | K28: =Тепло!D28 -> 0 | L28: =SUM(C28:K28) -> 0
A29: Автомобильный | B29: 16.3 | C29: 0 | D29: 0 | E29: =Нефтепродукты!D29 -> 2846.9 | F29: =Газ!D29 -> 0 | G29: =ПТТ!D29 -> 0 | H29: 0 | I29: 0 | J29: =Электроэнергия!D29 -> 0 | K29: =Тепло!D29 -> 32 | L29: =SUM(C29:K29) -> 2878.9
A30: Прочий | B30: 16.4 | C30: 0 | D30: 0 | E30: =Нефтепродукты!D30 -> 0 | F30: =Газ!D30 -> 0 | G30: =ПТТ!D30 -> 0 | H30: 0 | I30: 0 | J30: =Электроэнергия!D30 -> 32.6 | K30: =Тепло!D30 -> 19.2 | L30: =SUM(C30:K30) -> 51.8
A31: Сфера услуг | B31: 17 | C31: 0 | D31: 0 | E31: =Нефтепродукты!D31 -> 0 | F31: =Газ!D31 -> 3.9 | G31: =ПТТ!D31 -> 43 | H31: 0 | I31: 0 | J31: =Электроэнергия!D31 -> 529 | K31: =Тепло!D31 -> 1402.1 | L31: =SUM(C31:K31) -> 1978
A32: Население | B32: 18 | C32: 0 | D32: 0 | E32: =Нефтепродукты!D32 -> 1785 | F32: =Газ!D32 -> 11005.2 | G32: =ПТТ!D32 -> 75.2 | H32: 0 | I32: 0 | J32: =Электроэнергия!D32 -> 4452.4 | K32: =Тепло!D32 -> 11979 | L32: =SUM(C32:K32) -> 29296.8
A33: Использование ТЭР в качестве сырья и на нетопливные нужды | B33: 19 | C33: 0 | D33: 0 | E33: =Нефтепродукты!D33 -> 4.3 | F33: =Газ!D33 -> 0 | G33: =ПТТ!D33 -> 1.2 | H33: 0 | I33: 0 | J33: =Электроэнергия!D33 -> 0 | K33: =Тепло!D33 -> 0 | L33: =SUM(C33:K33) -> 5.5

Sheet ТЭБ 2026
A1: Прогнозный топливно-энергетический баланс МО "Город Отрадное" на 2026 г. (т у.т.) | B1: Индекс строки | C1: Уголь | D1: Сырая нефть | E1: Нефте-продукты | F1: Природный газ | G1: Прочее твердое топливо | H1: Гидроэнергия и НВИЭ | I1: Атомная энергия | J1: Электри-ческая энергия | K1: Тепловая энергия | L1: Всего
C2: 1 | D2: 2 | E2: 3 | F2: 4 | G2: 5 | H2: 6 | I2: 7 | J2: 8 | K2: 9 | L2: 10
A3: Производство энергетических ресурсов | B3: 1 | C3: 0 | D3: 0 | E3: =Нефтепродукты!E3 -> 0 | F3: =Газ!E3 -> 0 | G3: =ПТТ!E3 -> 0 | H3: 0 | I3: 0 | J3: =Электроэнергия!E3 -> 0 | K3: =Тепло!E3 -> 0 | L3: =SUM(C3:K3) -> 0
A4: Ввоз | B4: 2 | C4: 0 | D4: 0 | E4: =Нефтепродукты!E4 -> 5907.8 | F4: =Газ!E4 -> 39408.3 | G4: =ПТТ!E4 -> 148 | H4: 0 | I4: 0 | J4: =Электроэнергия!E4 -> 16442.5 | K4: =Тепло!E4 -> 58.2 | L4: =SUM(C4:K4) -> 61964.8
A5: Вывоз | B5: 3 | C5: 0 | D5: 0 | E5: =Нефтепродукты!E5 -> 0 | F5: =Газ!E5 -> 0 | G5: =ПТТ!E5 -> 0 | H5: 0 | I5: 0 | J5: =Электроэнергия!E5 -> 0 | K5: =Тепло!E5 -> 0 | L5: =SUM(C5:K5) -> 0
A6: Изменение запасов | B6: 4 | C6: 0 | D6: 0 | E6: =Нефтепродукты!E6 -> 12 | F6: =Газ!E6 -> 0 | G6: =ПТТ!E6 -> -2 | H6: 0 | I6: 0 | J6: =Электроэнергия!E6 -> 0 | K6: =Тепло!E6 -> 0 | L6: =SUM(C6:K6) -> 10
A7: Потребление первичной энергии | B7: 5 | C7: =SUM(C3:C6) -> 0 | D7: =SUM(D3:D6) -> 0 | E7: =SUM(E3:E6) -> 5919.8 | F7: =SUM(F3:F6) -> 39408.3 | G7: =SUM(G3:G6) -> 146 | H7: =SUM(H3:H6) -> 0 | I7: =SUM(I3:I6) -> 0 | J7: =SUM(J3:J6) -> 16442.5 | K7: =SUM(K3:K6) -> 58.2 | L7: =SUM(C7:K7) -> 61974.8
A8: Статистическое расхождение | B8: 6 | C8: =ROUND(C7+C9+C10+C14+C18+C19-C20,1) -> 0 | D8: =ROUND(D7+D9+D10+D14+D18+D19-D20,1) -> 0 | E8: =ROUND(E7+E9+E10+E14+E18+E19-E20,1) -> 0 | F8: =ROUND(F7+F9+F10+F14+F18+F19-F20,1) -> 0 | G8: =ROUND(G7+G9+G10+G14+G18+G19-G20,1) -> 0 | H8: =ROUND(H7+H9+H10+H14+H18+H19-H20,1) -> 0 | I8: =ROUND(I7+I9+I10+I14+I18+I19-I20,1) -> 0 | J8: =ROUND(J7+J9+J10+J14+J18+J19-J20,1) -> 0 | K8: =ROUND(K7+K9+K10+K14+K18+K19-K20,1) -> 0 | L8: =SUM(C8:K8) -> 0
A9: Производство электрической энергии | B9: 7 | C9: 0 | D9: 0 | E9: =Нефтепродукты!E9 -> 0 | F9: =Газ!E9 -> 0 | G9: =ПТТ!E9 -> 0 | H9: 0 | I9: 0 | J9: =Электроэнергия!E9 -> 0 | K9: =Тепло!E9 -> 0 | L9: =SUM(C9:K9) -> 0
A10: Производство тепловой энергии | B10: 8 | C10: =SUM(C11:C13) -> 0 | D10: =SUM(D11:D13) -> 0 | E10: =SUM(E11:E13) -> 0 | F10: =SUM(F11:F13) -> -16979.6 | G10: =SUM(G11:G13) -> 0 | H10: =SUM(H11:H13) -> 0 | I10: =SUM(I11:I13) -> 0 | J10: =SUM(J11:J13) -> -147.88148 | K10: =SUM(K11:K13) -> 15672 | L10: =SUM(C10:K10) -> -1455.4815
A11: Теплоэлектростанции | B11: 8.1 | C11: 0 | D11: 0 | E11: =Нефтепродукты!E11 -> 0 | F11: =Газ!E11 -> 0 | G11: =ПТТ!E11 -> 0 | H11: 0 | I11: 0 | J11: =Электроэнергия!E11 -> 0 | K11: =Тепло!E11 -> 0 | L11: =SUM(C11:K11) -> 0
A12: Котельные | B12: 8.2 | C12: 0 | D12: 0 | E12: =Нефтепродукты!E12 -> 0 | F12: =Газ!E12 -> -16979.6 | G12: =ПТТ!E12 -> 0 | H12: 0 | I12: 0 | J12: =Электроэнергия!E12 -> -147.88148 | K12: =Тепло!E12 -> 15672 | L12: =SUM(C12:K12) -> -1455.4815
A13: Электрокотельные и теплоустановки | B13: 8.3 | C13: 0 | D13: 0 | E13: =Нефтепродукты!E13 -> 0 | F13: =Газ!E13 -> 0 | G13: =ПТТ!E13 -> 0 | H13: 0 | I13: 0 | J13: =Электроэнергия!E13 -> 0 | K13: =Тепло!E13 -> 0 | L13: =SUM(C13:K13) -> 0
A14: Преобразование энергетических ресурсов | B14: 9 | C14: =SUM(C15:C17) -> 0 | D14: =SUM(D15:D17) -> 0 | E14: =SUM(E15:E17) -> 0 | F14: =SUM(F15:F17) -> 0 | G14: =SUM(G15:G17) -> 0 | H14: =SUM(H15:H17) -> 0 | I14: =SUM(I15:I17) -> 0 | J14: =SUM(J15:J17) -> 0 | K14: =SUM(K15:K17) -> 0 | L14: =SUM(C14:K14) -> 0
A15: Переработка нефти | B15: 9.1 | C15: 0 | D15: 0 | E15: =Нефтепродукты!E15 -> 0 | F15: =Газ!E15 -> 0 | G15: =ПТТ!E15 -> 0 | H15: 0 | I15: 0 | J15: =Электроэнергия!E15 -> 0 | K15: =Тепло!E15 -> 0 | L15: =SUM(C15:K15) -> 0
A16: Переработка газа | B16: 9.2 | C16: 0 | D16: 0 | E16: =Нефтепродукты!E16 -> 0 | F16: =Газ!E16 -> 0 | G16: =ПТТ!E16 -> 0 | H16: 0 | I16: 0 | J16: =Электроэнергия!E16 -> 0 | K16: =Тепло!E16 -> 0 | L16: =SUM(C16:K16) -> 0
A17: Обогащение угля | B17: 9.3 | C17: 0 | D17: 0 | E17: =Нефтепродукты!E17 -> 0 | F17: =Газ!E17 -> 0 | G17: =ПТТ!E17 -> 0 | H17: 0 | I17: 0 | J17: =Электроэнергия!E17 -> 0 | K17: =Тепло!E17 -> 0 | L17: =SUM(C17:K17) -> 0
A18: Собственные нужды | B18: 10 | C18: 0 | D18: 0 | E18: =Нефтепродукты!E18 -> 0 | F18: =Газ!E18 -> 0 | G18: =ПТТ!E18 -> 0 | H18: 0 | I18: 0 | J18: =Электроэнергия!E18 -> 0 | K18: =Тепло!E18 -> -690.5 | L18: =SUM(C18:K18) -> -690.5
A19: Потери при передаче | B19: 11 | C19: 0 | D19: 0 | E19: =Нефтепродукты!E19 -> 0 | F19: =Газ!E19 -> 0 | G19: =ПТТ!E19 -> 0 | H19: 0 | I19: 0 | J19: =Электроэнергия!E19 -> -1494.2 | K19: =Тепло!E19 -> -1238.2 | L19: =SUM(C19:K19) -> -2732.4
A20: Конечное потребление энергетических ресурсов | B20: 12 | C20: =C21+C22+C25+C26+C31+C32+C33 -> 0 | D20: =D21+D22+D25+D26+D31+D32+D33 -> 0 | E20: =E21+E22+E25+E26+E31+E32+E33 -> 5919.8 | F20: =F21+F22+F25+F26+F31+F32+F33 -> 22428.7 | G20: =G21+G22+G25+G26+G31+G32+G33 -> 146 | H20: =H21+H22+H25+H26+H31+H32+H33 -> 0 | I20: =I21+I22+I25+I26+I31+I32+I33 -> 0 | J20: =J21+J22+J25+J26+J31+J32+J33 -> 14800.4 | ... L20: =L21+L22+L25+L26+L31+L32+L33 -> 57096.4
A21: Сельское хозяйство, рыболовство и рыбоводство | B21: 13 | C21: 0 | D21: 0 | E21: =Нефтепродукты!E21 -> 0 | F21: =Газ!E21 -> 0 | G21: =ПТТ!E21 -> 0 | H21: 0 | I21: 0 | J21: =Электроэнергия!E21 -> 0 | K21: =Тепло!E21 -> 0 | L21: =SUM(C21:K21) -> 0
A22: Промышленность | B22: 14 | C22: =SUM(C23:C24) -> 0 | D22: =SUM(D23:D24) -> 0 | E22: =SUM(E23:E24) -> 1267 | F22: =SUM(F23:F24) -> 10400.8 | G22: =SUM(G23:G24) -> 29.2 | H22: =SUM(H23:H24) -> 0 | I22: =SUM(I23:I24) -> 0 | J22: =SUM(J23:J24) -> 9703.2 | K22: =SUM(K23:K24) -> 292.2 | L22: =SUM(C22:K22) -> 21692.4
A23: Продукция обрабатывающих производств | B23: 14.1 | C23: 0 | D23: 0 | E23: =Нефтепродукты!E23 -> 0 | F23: =Газ!E23 -> 9144.9 | G23: =ПТТ!E23 -> 0 | H23: 0 | I23: 0 | J23: =Электроэнергия!E23 -> 6270.6 | K23: =Тепло!E23 -> 132.5 | L23: =SUM(C23:K23) -> 15548
A24: Продукция прочих производств | B24: 14.2 | C24: 0 | D24: 0 | E24: =Нефтепродукты!E24 -> 1267 | F24: =Газ!E24 -> 1255.9 | G24: =ПТТ!E24 -> 29.2 | H24: 0 | I24: 0 | J24: =Электроэнергия!E24 -> 3432.6 | K24: =Тепло!E24 -> 159.7 | L24: =SUM(C24:K24) -> 6144.4
A25: Строительство | B25: 15 | C25: 0 | D25: 0 | E25: =Нефтепродукты!E25 -> 0 | F25: =Газ!E25 -> 1018.2 | G25: =ПТТ!E25 -> 0 | H25: 0 | I25: 0 | J25: =Электроэнергия!E25 -> 62.8 | K25: =Тепло!E25 -> 27.1 | L25: =SUM(C25:K25) -> 1108.1
A26: Транспорт и связь | B26: 16 | C26: =SUM(C27:C30) -> 0 | D26: =SUM(D27:D30) -> 0 | E26: =SUM(E27:E30) -> 2857.1 | F26: =SUM(F27:F30) -> 0 | G26: =SUM(G27:G30) -> 0 | H26: =SUM(H27:H30) -> 0 | I26: =SUM(I27:I30) -> 0 | J26: =SUM(J27:J30) -> 32.4 | K26: =SUM(K27:K30) -> 51.4 | L26: =SUM(C26:K26) -> 2940.9
A27: Железнодорожный | B27: 16.1 | C27: 0 | D27: 0 | E27: =Нефтепродукты!E27 -> 0 | F27: =Газ!E27 -> 0 | G27: =ПТТ!E27 -> 0 | H27: 0 | I27: 0 | J27: =Электроэнергия!E27 -> 0 | K27: =Тепло!E27 -> 0 | L27: =SUM(C27:K27) -> 0
A28: Трубопроводный | B28: 16.2 | C28: 0 | D28: 0 | E28: =Нефтепродукты!E28 -> 0 | F28: =Газ!E28 -> 0 | G28: =ПТТ!E28 -> 0 | H28: 0 | I28: 0 | J28: =Электроэнергия!E28 -> 0 | K28: =Тепло!E28 -> 0 | L28: =SUM(C28:K28) -> 0
A29: Автомобильный | B29: 16.3 | C29: 0 | D29: 0 | E29: =Нефтепродукты!E29 -> 2857.1 | F29: =Газ!E29 -> 0 | G29: =ПТТ!E29 -> 0 | H29: 0 | I29: 0 | J29: =Электроэнергия!E29 -> 0 | K29: =Тепло!E29 -> 32.1 | L29: =SUM(C29:K29) -> 2889.2
A30: Прочий | B30: 16.4 | C30: 0 | D30: 0 | E30: =Нефтепродукты!E30 -> 0 | F30: =Газ!E30 -> 0 | G30: =ПТТ!E30 -> 0 | H30: 0 | I30: 0 | J30: =Электроэнергия!E30 -> 32.4 | K30: =Тепло!E30 -> 19.3 | L30: =SUM(C30:K30) -> 51.7
A31: Сфера услуг | B31: 17 | C31: 0 | D31: 0 | E31: =Нефтепродукты!E31 -> 0 | F31: =Газ!E31 -> 3.9 | G31: =ПТТ!E31 -> 41.8 | H31: 0 | I31: 0 | J31: =Электроэнергия!E31 -> 531.2 | K31: =Тепло!E31 -> 1402.2 | L31: =SUM(C31:K31) -> 1979.1
A32: Население | B32: 18 | C32: 0 | D32: 0 | E32: =Нефтепродукты!E32 -> 1791.4 | F32: =Газ!E32 -> 11005.8 | G32: =ПТТ!E32 -> 73.9 | H32: 0 | I32: 0 | J32: =Электроэнергия!E32 -> 4470.8 | K32: =Тепло!E32 -> 12028.6 | L32: =SUM(C32:K32) -> 29370.5
A33: Использование ТЭР в качестве сырья и на нетопливные нужды | B33: 19 | C33: 0 | D33: 0 | E33: =Нефтепродукты!E33 -> 4.3 | F33: =Газ!E33 -> 0 | G33: =ПТТ!E33 -> 1.1 | H33: 0 | I33: 0 | J33: =Электроэнергия!E33 -> 0 | K33: =Тепло!E33 -> 0 | L33: =SUM(C33:K33) -> 5.4

Sheet ТЭБ 2027
A1: Прогнозный топливно-энергетический баланс МО "Город Отрадное" на 2027 г. (т у.т.) | B1: Индекс строки | C1: Уголь | D1: Сырая нефть | E1: Нефте-продукты | F1: Природный газ | G1: Прочее твердое топливо | H1: Гидроэнергия и НВИЭ | I1: Атомная энергия | J1: Электри-ческая энергия | K1: Тепловая энергия | L1: Всего
C2: 1 | D2: 2 | E2: 3 | F2: 4 | G2: 5 | H2: 6 | I2: 7 | J2: 8 | K2: 9 | L2: 10
A3: Производство энергетических ресурсов | B3: 1 | C3: 0 | D3: 0 | E3: =Нефтепродукты!F3 -> 0 | F3: =Газ!F3 -> 0 | G3: =ПТТ!F3 -> 0 | H3: 0 | I3: 0 | J3: =Электроэнергия!F3 -> 0 | K3: =Тепло!F3 -> 0 | L3: =SUM(C3:K3) -> 0
A4: Ввоз | B4: 2 | C4: 0 | D4: 0 | E4: =Нефтепродукты!F4 -> 5942 | F4: =Газ!F4 -> 39447.3 | G4: =ПТТ!F4 -> 144.3 | H4: 0 | I4: 0 | J4: =Электроэнергия!F4 -> 16460.2 | K4: =Тепло!F4 -> 54 | L4: =SUM(C4:K4) -> 62047.8
A5: Вывоз | B5: 3 | C5: 0 | D5: 0 | E5: =Нефтепродукты!F5 -> 0 | F5: =Газ!F5 -> 0 | G5: =ПТТ!F5 -> 0 | H5: 0 | I5: 0 | J5: =Электроэнергия!F5 -> 0 | K5: =Тепло!F5 -> 0 | L5: =SUM(C5:K5) -> 0
A6: Изменение запасов | B6: 4 | C6: 0 | D6: 0 | E6: =Нефтепродукты!F6 -> 0 | F6: =Газ!F6 -> 0 | G6: =ПТТ!F6 -> -2 | H6: 0 | I6: 0 | J6: =Электроэнергия!F6 -> 0 | K6: =Тепло!F6 -> 0 | L6: =SUM(C6:K6) -> -2
A7: Потребление первичной энергии | B7: 5 | C7: =SUM(C3:C6) -> 0 | D7: =SUM(D3:D6) -> 0 | E7: =SUM(E3:E6) -> 5942 | F7: =SUM(F3:F6) -> 39447.3 | G7: =SUM(G3:G6) -> 142.3 | H7: =SUM(H3:H6) -> 0 | I7: =SUM(I3:I6) -> 0 | J7: =SUM(J3:J6) -> 16460.2 | K7: =SUM(K3:K6) -> 54 | L7: =SUM(C7:K7) -> 62045.8
A8: Статистическое расхождение | B8: 6 | C8: =ROUND(C7+C9+C10+C14+C18+C19-C20,1) -> 0 | D8: =ROUND(D7+D9+D10+D14+D18+D19-D20,1) -> 0 | E8: =ROUND(E7+E9+E10+E14+E18+E19-E20,1) -> 0 | F8: =ROUND(F7+F9+F10+F14+F18+F19-F20,1) -> 0 | G8: =ROUND(G7+G9+G10+G14+G18+G19-G20,1) -> 0 | H8: =ROUND(H7+H9+H10+H14+H18+H19-H20,1) -> 0 | I8: =ROUND(I7+I9+I10+I14+I18+I19-I20,1) -> 0 | J8: =ROUND(J7+J9+J10+J14+J18+J19-J20,1) -> 0 | K8: =ROUND(K7+K9+K10+K14+K18+K19-K20,1) -> 0 | L8: =SUM(C8:K8) -> 0
A9: Производство электрической энергии | B9: 7 | C9: 0 | D9: 0 | E9: =Нефтепродукты!F9 -> 0 | F9: =Газ!F9 -> 0 | G9: =ПТТ!F9 -> 0 | H9: 0 | I9: 0 | J9: =Электроэнергия!F9 -> 0 | K9: =Тепло!F9 -> 0 | L9: =SUM(C9:K9) -> 0
A10: Производство тепловой энергии | B10: 8 | C10: =SUM(C11:C13) -> 0 | D10: =SUM(D11:D13) -> 0 | E10: =SUM(E11:E13) -> 0 | F10: =SUM(F11:F13) -> -17014.3 | G10: =SUM(G11:G13) -> 0 | H10: =SUM(H11:H13) -> 0 | I10: =SUM(I11:I13) -> 0 | J10: =SUM(J11:J13) -> -148.18343 | K10: =SUM(K11:K13) -> 15704 | L10: =SUM(C10:K10) -> -1458.4834
A11: Теплоэлектростанции | B11: 8.1 | C11: 0 | D11: 0 | E11: =Нефтепродукты!F11 -> 0 | F11: =Газ!F11 -> 0 | G11: =ПТТ!F11 -> 0 | H11: 0 | I11: 0 | J11: =Электроэнергия!F11 -> 0 | K11: =Тепло!F11 -> 0 | L11: =SUM(C11:K11) -> 0
A12: Котельные | B12: 8.2 | C12: 0 | D12: 0 | E12: =Нефтепродукты!F12 -> 0 | F12: =Газ!F12 -> -17014.3 | G12: =ПТТ!F12 -> 0 | H12: 0 | I12: 0 | J12: =Электроэнергия!F12 -> -148.18343 | K12: =Тепло!F12 -> 15704 | L12: =SUM(C12:K12) -> -1458.4834
A13: Электрокотельные и теплоустановки | B13: 8.3 | C13: 0 | D13: 0 | E13: =Нефтепродукты!F13 -> 0 | F13: =Газ!F13 -> 0 | G13: =ПТТ!F13 -> 0 | H13: 0 | I13: 0 | J13: =Электроэнергия!F13 -> 0 | K13: =Тепло!F13 -> 0 | L13: =SUM(C13:K13) -> 0
A14: Преобразование энергетических ресурсов | B14: 9 | C14: =SUM(C15:C17) -> 0 | D14: =SUM(D15:D17) -> 0 | E14: =SUM(E15:E17) -> 0 | F14: =SUM(F15:F17) -> 0 | G14: =SUM(G15:G17) -> 0 | H14: =SUM(H15:H17) -> 0 | I14: =SUM(I15:I17) -> 0 | J14: =SUM(J15:J17) -> 0 | K14: =SUM(K15:K17) -> 0 | L14: =SUM(C14:K14) -> 0
A15: Переработка нефти | B15: 9.1 | C15: 0 | D15: 0 | E15: =Нефтепродукты!F15 -> 0 | F15: =Газ!F15 -> 0 | G15: =ПТТ!F15 -> 0 | H15: 0 | I15: 0 | J15: =Электроэнергия!F15 -> 0 | K15: =Тепло!F15 -> 0 | L15: =SUM(C15:K15) -> 0
A16: Переработка газа | B16: 9.2 | C16: 0 | D16: 0 | E16: =Нефтепродукты!F16 -> 0 | F16: =Газ!F16 -> 0 | G16: =ПТТ!F16 -> 0 | H16: 0 | I16: 0 | J16: =Электроэнергия!F16 -> 0 | K16: =Тепло!F16 -> 0 | L16: =SUM(C16:K16) -> 0
A17: Обогащение угля | B17: 9.3 | C17: 0 | D17: 0 | E17: =Нефтепродукты!F17 -> 0 | F17: =Газ!F17 -> 0 | G17: =ПТТ!F17 -> 0 | H17: 0 | I17: 0 | J17: =Электроэнергия!F17 -> 0 | K17: =Тепло!F17 -> 0 | L17: =SUM(C17:K17) -> 0
A18: Собственные нужды | B18: 10 | C18: 0 | D18: 0 | E18: =Нефтепродукты!F18 -> 0 | F18: =Газ!F18 -> 0 | G18: =ПТТ!F18 -> 0 | H18: 0 | I18: 0 | J18: =Электроэнергия!F18 -> 0 | K18: =Тепло!F18 -> -698 | L18: =SUM(C18:K18) -> -698
A19: Потери при передаче | B19: 11 | C19: 0 | D19: 0 | E19: =Нефтепродукты!F19 -> 0 | F19: =Газ!F19 -> 0 | G19: =ПТТ!F19 -> 0 | H19: 0 | I19: 0 | J19: =Электроэнергия!F19 -> -1495.8 | K19: =Тепло!F19 -> -1252 | L19: =SUM(C19:K19) -> -2747.8
A20: Конечное потребление энергетических ресурсов | B20: 12 | C20: =C21+C22+C25+C26+C31+C32+C33 -> 0 | D20: =D21+D22+D25+D26+D31+D32+D33 -> 0 | E20: =E21+E22+E25+E26+E31+E32+E33 -> 5942 | F20: =F21+F22+F25+F26+F31+F32+F33 -> 22433 | G20: =G21+G22+G25+G26+G31+G32+G33 -> 142.3 | H20: =H21+H22+H25+H26+H31+H32+H33 -> 0 | I20: =I21+I22+I25+I26+I31+I32+I33 -> 0 | J20: =J21+J22+J25+J26+J31+J32+J33 -> 14816.2 | ... L20: =L21+L22+L25+L26+L31+L32+L33 -> 57141.5
A21: Сельское хозяйство, рыболовство и рыбоводство | B21: 13 | C21: 0 | D21: 0 | E21: =Нефтепродукты!F21 -> 0 | F21: =Газ!F21 -> 0 | G21: =ПТТ!F21 -> 0 | H21: 0 | I21: 0 | J21: =Электроэнергия!F21 -> 0 | K21: =Тепло!F21 -> 0 | L21: =SUM(C21:K21) -> 0
A22: Промышленность | B22: 14 | C22: =SUM(C23:C24) -> 0 | D22: =SUM(D23:D24) -> 0 | E22: =SUM(E23:E24) -> 1272.8 | F22: =SUM(F23:F24) -> 10401.9 | G22: =SUM(G23:G24) -> 28.7 | H22: =SUM(H23:H24) -> 0 | I22: =SUM(I23:I24) -> 0 | J22: =SUM(J23:J24) -> 9716.3 | K22: =SUM(K23:K24) -> 293.5 | L22: =SUM(C22:K22) -> 21713.2
A23: Продукция обрабатывающих производств | B23: 14.1 | C23: 0 | D23: 0 | E23: =Нефтепродукты!F23 -> 0 | F23: =Газ!F23 -> 9145.6 | G23: =ПТТ!F23 -> 0 | H23: 0 | I23: 0 | J23: =Электроэнергия!F23 -> 6277.4 | K23: =Тепло!F23 -> 133.2 | L23: =SUM(C23:K23) -> 15556.2
A24: Продукция прочих производств | B24: 14.2 | C24: 0 | D24: 0 | E24: =Нефтепродукты!F24 -> 1272.8 | F24: =Газ!F24 -> 1256.3 | G24: =ПТТ!F24 -> 28.7 | H24: 0 | I24: 0 | J24: =Электроэнергия!F24 -> 3438.9 | K24: =Тепло!F24 -> 160.3 | L24: =SUM(C24:K24) -> 6157
A25: Строительство | B25: 15 | C25: 0 | D25: 0 | E25: =Нефтепродукты!F25 -> 0 | F25: =Газ!F25 -> 1018.5 | G25: =ПТТ!F25 -> 0 | H25: 0 | I25: 0 | J25: =Электроэнергия!F25 -> 63.4 | K25: =Тепло!F25 -> 27.2 | L25: =SUM(C25:K25) -> 1109.1
A26: Транспорт и связь | B26: 16 | C26: =SUM(C27:C30) -> 0 | D26: =SUM(D27:D30) -> 0 | E26: =SUM(E27:E30) -> 2867.4 | F26: =SUM(F27:F30) -> 0 | G26: =SUM(G27:G30) -> 0 | H26: =SUM(H27:H30) -> 0 | I26: =SUM(I27:I30) -> 0 | J26: =SUM(J27:J30) -> 32.4 | K26: =SUM(K27:K30) -> 51.8 | L26: =SUM(C26:K26) -> 2951.6
A27: Железнодорожный | B27: 16.1 | C27: 0 | D27: 0 | E27: =Нефтепродукты!F27 -> 0 | F27: =Газ!F27 -> 0 | G27: =ПТТ!F27 -> 0 | H27: 0 | I27: 0 | J27: =Электроэнергия!F27 -> 0 | K27: =Тепло!F27 -> 0 | L27: =SUM(C27:K27) -> 0
A28: Трубопроводный | B28: 16.2 | C28: 0 | D28: 0 | E28: =Нефтепродукты!F28 -> 0 | F28: =Газ!F28 -> 0 | G28: =ПТТ!F28 -> 0 | H28: 0 | I28: 0 | J28: =Электроэнергия!F28 -> 0 | K28: =Тепло!F28 -> 0 | L28: =SUM(C28:K28) -> 0
A29: Автомобильный | B29: 16.3 | C29: 0 | D29: 0 | E29: =Нефтепродукты!F29 -> 2867.4 | F29: =Газ!F29 -> 0 | G29: =ПТТ!F29 -> 0 | H29: 0 | I29: 0 | J29: =Электроэнергия!F29 -> 0 | K29: =Тепло!F29 -> 32.3 | L29: =SUM(C29:K29) -> 2899.7
A30: Прочий | B30: 16.4 | C30: 0 | D30: 0 | E30: =Нефтепродукты!F30 -> 0 | F30: =Газ!F30 -> 0 | G30: =ПТТ!F30 -> 0 | H30: 0 | I30: 0 | J30: =Электроэнергия!F30 -> 32.4 | K30: =Тепло!F30 -> 19.5 | L30: =SUM(C30:K30) -> 51.9
A31: Сфера услуг | B31: 17 | C31: 0 | D31: 0 | E31: =Нефтепродукты!F31 -> 0 | F31: =Газ!F31 -> 4 | G31: =ПТТ!F31 -> 39.6 | H31: 0 | I31: 0 | J31: =Электроэнергия!F31 -> 531.4 | K31: =Тепло!F31 -> 1401.9 | L31: =SUM(C31:K31) -> 1976.9
A32: Население | B32: 18 | C32: 0 | D32: 0 | E32: =Нефтепродукты!F32 -> 1797.8 | F32: =Газ!F32 -> 11008.6 | G32: =ПТТ!F32 -> 73 | H32: 0 | I32: 0 | J32: =Электроэнергия!F32 -> 4472.7 | K32: =Тепло!F32 -> 12033.6 | L32: =SUM(C32:K32) -> 29385.7
A33: Использование ТЭР в качестве сырья и на нетопливные нужды | B33: 19 | C33: 0 | D33: 0 | E33: =Нефтепродукты!F33 -> 4 | F33: =Газ!F33 -> 0 | G33: =ПТТ!F33 -> 1 | H33: 0 | I33: 0 | J33: =Электроэнергия!F33 -> 0 | K33: =Тепло!F33 -> 0 | L33: =SUM(C33:K33) -> 5

Sheet ТЭБ 2030
A1: Прогнозный топливно-энергетический баланс МО "Город Отрадное" на 2030 г. (т у.т.) | B1: Индекс строки | C1: Уголь | D1: Сырая нефть | E1: Нефте-продукты | F1: Природный газ | G1: Прочее твердое топливо | H1: Гидроэнергия и НВИЭ | I1: Атомная энергия | J1: Электри-ческая энергия | K1: Тепловая энергия | L1: Всего
C2: 1 | D2: 2 | E2: 3 | F2: 4 | G2: 5 | H2: 6 | I2: 7 | J2: 8 | K2: 9 | L2: 10
A3: Производство энергетических ресурсов | B3: 1 | C3: 0 | D3: 0 | E3: =Нефтепродукты!G3 -> 0 | F3: =Газ!G3 -> 0 | G3: =ПТТ!G3 -> 0 | H3: 0 | I3: 0 | J3: =Электроэнергия!G3 -> 0 | K3: =Тепло!G3 -> 0 | L3: =SUM(C3:K3) -> 0
A4: Ввоз | B4: 2 | C4: 0 | D4: 0 | E4: =Нефтепродукты!G4 -> 6020.9 | F4: =Газ!G4 -> 39544.9 | G4: =ПТТ!G4 -> 121.6 | H4: 0 | I4: 0 | J4: =Электроэнергия!G4 -> 16530.6 | K4: =Тепло!G4 -> 54 | L4: =SUM(C4:K4) -> 62272
A5: Вывоз | B5: 3 | C5: 0 | D5: 0 | E5: =Нефтепродукты!G5 -> 0 | F5: =Газ!G5 -> 0 | G5: =ПТТ!G5 -> 0 | H5: 0 | I5: 0 | J5: =Электроэнергия!G5 -> 0 | K5: =Тепло!G5 -> 0 | L5: =SUM(C5:K5) -> 0
A6: Изменение запасов | B6: 4 | C6: 0 | D6: 0 | E6: =Нефтепродукты!G6 -> 0 | F6: =Газ!G6 -> 0 | G6: =ПТТ!G6 -> 0 | H6: 0 | I6: 0 | J6: =Электроэнергия!G6 -> 0 | K6: =Тепло!G6 -> 0 | L6: =SUM(C6:K6) -> 0
A7: Потребление первичной энергии | B7: 5 | C7: =SUM(C3:C6) -> 0 | D7: =SUM(D3:D6) -> 0 | E7: =SUM(E3:E6) -> 6020.9 | F7: =SUM(F3:F6) -> 39544.9 | G7: =SUM(G3:G6) -> 121.6 | H7: =SUM(H3:H6) -> 0 | I7: =SUM(I3:I6) -> 0 | J7: =SUM(J3:J6) -> 16530.6 | K7: =SUM(K3:K6) -> 54 | L7: =SUM(C7:K7) -> 62272
A8: Статистическое расхождение | B8: 6 | C8: =ROUND(C7+C9+C10+C14+C18+C19-C20,1) -> 0 | D8: =ROUND(D7+D9+D10+D14+D18+D19-D20,1) -> 0 | E8: =ROUND(E7+E9+E10+E14+E18+E19-E20,1) -> 0 | F8: =ROUND(F7+F9+F10+F14+F18+F19-F20,1) -> 0 | G8: =ROUND(G7+G9+G10+G14+G18+G19-G20,1) -> 0 | H8: =ROUND(H7+H9+H10+H14+H18+H19-H20,1) -> 0 | I8: =ROUND(I7+I9+I10+I14+I18+I19-I20,1) -> 0 | J8: =ROUND(J7+J9+J10+J14+J18+J19-J20,1) -> 0 | K8: =ROUND(K7+K9+K10+K14+K18+K19-K20,1) -> 0 | L8: =SUM(C8:K8) -> 0
A9: Производство электрической энергии | B9: 7 | C9: 0 | D9: 0 | E9: =Нефтепродукты!G9 -> 0 | F9: =Газ!G9 -> 0 | G9: =ПТТ!G9 -> 0 | H9: 0 | I9: 0 | J9: =Электроэнергия!G9 -> 0 | K9: =Тепло!G9 -> 0 | L9: =SUM(C9:K9) -> 0
A10: Производство тепловой энергии | B10: 8 | C10: =SUM(C11:C13) -> 0 | D10: =SUM(D11:D13) -> 0 | E10: =SUM(E11:E13) -> 0 | F10: =SUM(F11:F13) -> -17107.4 | G10: =SUM(G11:G13) -> 0 | H10: =SUM(H11:H13) -> 0 | I10: =SUM(I11:I13) -> 0 | J10: =SUM(J11:J13) -> -148.99493 | K10: =SUM(K11:K13) -> 15790 | L10: =SUM(C10:K10) -> -1466.3949
A11: Теплоэлектростанции | B11: 8.1 | C11: 0 | D11: 0 | E11: =Нефтепродукты!G11 -> 0 | F11: =Газ!G11 -> 0 | G11: =ПТТ!G11 -> 0 | H11: 0 | I11: 0 | J11: =Электроэнергия!G11 -> 0 | K11: =Тепло!G11 -> 0 | L11: =SUM(C11:K11) -> 0
A12: Котельные | B12: 8.2 | C12: 0 | D12: 0 | E12: =Нефтепродукты!G12 -> 0 | F12: =Газ!G12 -> -17107.4 | G12: =ПТТ!G12 -> 0 | H12: 0 | I12: 0 | J12: =Электроэнергия!G12 -> -148.99493 | K12: =Тепло!G12 -> 15790 | L12: =SUM(C12:K12) -> -1466.3949
A13: Электрокотельные и теплоустановки | B13: 8.3 | C13: 0 | D13: 0 | E13: =Нефтепродукты!G13 -> 0 | F13: =Газ!G13 -> 0 | G13: =ПТТ!G13 -> 0 | H13: 0 | I13: 0 | J13: =Электроэнергия!G13 -> 0 | K13: =Тепло!G13 -> 0 | L13: =SUM(C13:K13) -> 0
A14: Преобразование энергетических ресурсов | B14: 9 | C14: =SUM(C15:C17) -> 0 | D14: =SUM(D15:D17) -> 0 | E14: =SUM(E15:E17) -> 0 | F14: =SUM(F15:F17) -> 0 | G14: =SUM(G15:G17) -> 0 | H14: =SUM(H15:H17) -> 0 | I14: =SUM(I15:I17) -> 0 | J14: =SUM(J15:J17) -> 0 | K14: =SUM(K15:K17) -> 0 | L14: =SUM(C14:K14) -> 0
A15: Переработка нефти | B15: 9.1 | C15: 0 | D15: 0 | E15: =Нефтепродукты!G15 -> 0 | F15: =Газ!G15 -> 0 | G15: =ПТТ!G15 -> 0 | H15: 0 | I15: 0 | J15: =Электроэнергия!G15 -> 0 | K15: =Тепло!G15 -> 0 | L15: =SUM(C15:K15) -> 0
A16: Переработка газа | B16: 9.2 | C16: 0 | D16: 0 | E16: =Нефтепродукты!G16 -> 0 | F16: =Газ!G16 -> 0 | G16: =ПТТ!G16 -> 0 | H16: 0 | I16: 0 | J16: =Электроэнергия!G16 -> 0 | K16: =Тепло!G16 -> 0 | L16: =SUM(C16:K16) -> 0
A17: Обогащение угля | B17: 9.3 | C17: 0 | D17: 0 | E17: =Нефтепродукты!G17 -> 0 | F17: =Газ!G17 -> 0 | G17: =ПТТ!G17 -> 0 | H17: 0 | I17: 0 | J17: =Электроэнергия!G17 -> 0 | K17: =Тепло!G17 -> 0 | L17: =SUM(C17:K17) -> 0
A18: Собственные нужды | B18: 10 | C18: 0 | D18: 0 | E18: =Нефтепродукты!G18 -> 0 | F18: =Газ!G18 -> 0 | G18: =ПТТ!G18 -> 0 | H18: 0 | I18: 0 | J18: =Электроэнергия!G18 -> 0 | K18: =Тепло!G18 -> -698 | L18: =SUM(C18:K18) -> -698
A19: Потери при передаче | B19: 11 | C19: 0 | D19: 0 | E19: =Нефтепродукты!G19 -> 0 | F19: =Газ!G19 -> 0 | G19: =ПТТ!G19 -> 0 | H19: 0 | I19: 0 | J19: =Электроэнергия!G19 -> -1502.2 | K19: =Тепло!G19 -> -1252 | L19: =SUM(C19:K19) -> -2754.2
A20: Конечное потребление энергетических ресурсов | B20: 12 | C20: =C21+C22+C25+C26+C31+C32+C33 -> 0 | D20: =D21+D22+D25+D26+D31+D32+D33 -> 0 | E20: =E21+E22+E25+E26+E31+E32+E33 -> 6020.9 | F20: =F21+F22+F25+F26+F31+F32+F33 -> 22437.5 | G20: =G21+G22+G25+G26+G31+G32+G33 -> 121.6 | H20: =H21+H22+H25+H26+H31+H32+H33 -> 0 | I20: =I21+I22+I25+I26+I31+I32+I33 -> 0 | J20: =J21+J22+J25+J26+J31+J32+J33 -> 14879.4 | ... L20: =L21+L22+L25+L26+L31+L32+L33 -> 57353.4
A21: Сельское хозяйство, рыболовство и рыбоводство | B21: 13 | C21: 0 | D21: 0 | E21: =Нефтепродукты!G21 -> 0 | F21: =Газ!G21 -> 0 | G21: =ПТТ!G21 -> 0 | H21: 0 | I21: 0 | J21: =Электроэнергия!G21 -> 0 | K21: =Тепло!G21 -> 0 | L21: =SUM(C21:K21) -> 0
A22: Промышленность | B22: 14 | C22: =SUM(C23:C24) -> 0 | D22: =SUM(D23:D24) -> 0 | E22: =SUM(E23:E24) -> 1284 | F22: =SUM(F23:F24) -> 10402.8 | G22: =SUM(G23:G24) -> 26 | H22: =SUM(H23:H24) -> 0 | I22: =SUM(I23:I24) -> 0 | J22: =SUM(J23:J24) -> 9746.4 | K22: =SUM(K23:K24) -> 294.3 | L22: =SUM(C22:K22) -> 21753.5
A23: Продукция обрабатывающих производств | B23: 14.1 | C23: 0 | D23: 0 | E23: =Нефтепродукты!G23 -> 0 | F23: =Газ!G23 -> 9145.6 | G23: =ПТТ!G23 -> 0 | H23: 0 | I23: 0 | J23: =Электроэнергия!G23 -> 6303.8 | K23: =Тепло!G23 -> 133.5 | L23: =SUM(C23:K23) -> 15582.9
A24: Продукция прочих производств | B24: 14.2 | C24: 0 | D24: 0 | E24: =Нефтепродукты!G24 -> 1284 | F24: =Газ!G24 -> 1257.2 | G24: =ПТТ!G24 -> 26 | H24: 0 | I24: 0 | J24: =Электроэнергия!G24 -> 3442.6 | K24: =Тепло!G24 -> 160.8 | L24: =SUM(C24:K24) -> 6170.6
A25: Строительство | B25: 15 | C25: 0 | D25: 0 | E25: =Нефтепродукты!G25 -> 0 | F25: =Газ!G25 -> 1018.7 | G25: =ПТТ!G25 -> 0 | H25: 0 | I25: 0 | J25: =Электроэнергия!G25 -> 64.6 | K25: =Тепло!G25 -> 27.3 | L25: =SUM(C25:K25) -> 1110.6
A26: Транспорт и связь | B26: 16 | C26: =SUM(C27:C30) -> 0 | D26: =SUM(D27:D30) -> 0 | E26: =SUM(E27:E30) -> 2903 | F26: =SUM(F27:F30) -> 0 | G26: =SUM(G27:G30) -> 0 | H26: =SUM(H27:H30) -> 0 | I26: =SUM(I27:I30) -> 0 | J26: =SUM(J27:J30) -> 32.8 | K26: =SUM(K27:K30) -> 52.2 | L26: =SUM(C26:K26) -> 2988
A27: Железнодорожный | B27: 16.1 | C27: 0 | D27: 0 | E27: =Нефтепродукты!G27 -> 0 | F27: =Газ!G27 -> 0 | G27: =ПТТ!G27 -> 0 | H27: 0 | I27: 0 | J27: =Электроэнергия!G27 -> 0 | K27: =Тепло!G27 -> 0 | L27: =SUM(C27:K27) -> 0
A28: Трубопроводный | B28: 16.2 | C28: 0 | D28: 0 | E28: =Нефтепродукты!G28 -> 0 | F28: =Газ!G28 -> 0 | G28: =ПТТ!G28 -> 0 | H28: 0 | I28: 0 | J28: =Электроэнергия!G28 -> 0 | K28: =Тепло!G28 -> 0 | L28: =SUM(C28:K28) -> 0
A29: Автомобильный | B29: 16.3 | C29: 0 | D29: 0 | E29: =Нефтепродукты!G29 -> 2903 | F29: =Газ!G29 -> 0 | G29: =ПТТ!G29 -> 0 | H29: 0 | I29: 0 | J29: =Электроэнергия!G29 -> 0 | K29: =Тепло!G29 -> 32.5 | L29: =SUM(C29:K29) -> 2935.5
A30: Прочий | B30: 16.4 | C30: 0 | D30: 0 | E30: =Нефтепродукты!G30 -> 0 | F30: =Газ!G30 -> 0 | G30: =ПТТ!G30 -> 0 | H30: 0 | I30: 0 | J30: =Электроэнергия!G30 -> 32.8 | K30: =Тепло!G30 -> 19.7 | L30: =SUM(C30:K30) -> 52.5
A31: Сфера услуг | B31: 17 | C31: 0 | D31: 0 | E31: =Нефтепродукты!G31 -> 0 | F31: =Газ!G31 -> 4 | G31: =ПТТ!G31 -> 28.4 | H31: 0 | I31: 0 | J31: =Электроэнергия!G31 -> 534.7 | K31: =Тепло!G31 -> 1410.8 | L31: =SUM(C31:K31) -> 1977.9
A32: Население | B32: 18 | C32: 0 | D32: 0 | E32: =Нефтепродукты!G32 -> 1830 | F32: =Газ!G32 -> 11012 | G32: =ПТТ!G32 -> 66.2 | H32: 0 | I32: 0 | J32: =Электроэнергия!G32 -> 4500.9 | K32: =Тепло!G32 -> 12109.4 | L32: =SUM(C32:K32) -> 29518.5
A33: Использование ТЭР в качестве сырья и на нетопливные нужды | B33: 19 | C33: 0 | D33: 0 | E33: =Нефтепродукты!G33 -> 3.9 | F33: =Газ!G33 -> 0 | G33: =ПТТ!G33 -> 1 | H33: 0 | I33: 0 | J33: =Электроэнергия!G33 -> 0 | K33: =Тепло!G33 -> 0 | L33: =SUM(C33:K33) -> 4.9

Sheet Нефтепродукты
A1: Прогнозный однопродуктовый баланс нефтепродуктов МО "Город Отрадное" до 2030 г. (т у.т.) | B1: Индекс строки | C1: Факт 2024 | D1: Прогноз 2025 | E1: Прогноз 2026 | F1: Прогноз 2027 | G1: Оценка 2030 | H1: Абсолютное изменение 2030-2024 | I1: Изменение в процентах к 2024 году
C2: 1 | D2: 2 | E2: 3 | F2: 4 | G2: 5 | H2: 6 | I2: 7
A3: Производство энергетических ресурсов | B3: 1 | C3: 0 | D3: 0 | E3: 0 | F3: 0 | G3: 0
A4: Ввоз | B4: 2 | C4: 5994.5 | D4: 5936.8 | E4: 5907.8 | F4: 5942 | G4: 6020.9 | H4: =G4-C4 -> 26.4 | I4: =ROUND(H4/C4,3) -> 0.004
A5: Вывоз | B5: 3 | C5: 0 | D5: 0 | E5: 0 | F5: 0 | G5: 0
A6: Изменение запасов | B6: 4 | C6: 26.3 | D6: 12 | E6: 12 | F6: 0 | G6: 0
A7: Потребление первичной энергии | B7: 5 | C7: =C3+C4+C5+C6 -> 6020.8 | D7: =D3+D4+D5+D6 -> 5948.8 | E7: =E3+E4+E5+E6 -> 5919.8 | F7: =F3+F4+F5+F6 -> 5942 | G7: =G3+G4+G5+G6 -> 6020.9 | H7: =G7-C7 -> 0.1 | I7: =ROUND(H7/C7,3) -> 0
A8: Статистическое расхождение | B8: 6 | C8: =ROUND(C7+C9+C10+C14+C18+C19-C20,1) -> 0 | D8: =ROUND(D7+D9+D10+D14+D18+D19-D20,1) -> 0 | E8: =ROUND(E7+E9+E10+E14+E18+E19-E20,1) -> 0 | F8: =ROUND(F7+F9+F10+F14+F18+F19-F20,1) -> 0 | G8: =ROUND(G7+G9+G10+G14+G18+G19-G20,1) -> 0
A9: Производство электрической энергии | B9: 7 | C9: 0 | D9: 0 | E9: 0 | F9: 0 | G9: 0
A10: Производство тепловой энергии | B10: 8 | C10: =SUM(C11:C13) -> -139.1 | D10: =SUM(D11:D13) -> -48 | E10: =SUM(E11:E13) -> 0 | F10: =SUM(F11:F13) -> 0 | G10: =SUM(G11:G13) -> 0
A11: Теплоэлектростанции | B11: 8.1 | C11: 0 | D11: 0 | E11: 0 | F11: 0 | G11: 0
A12: Котельные | B12: 8.2 | C12: -139.1 | D12: -48 | E12: 0 | F12: 0 | G12: 0
A13: Электрокотельные и теплоустановки | B13: 8.3 | C13: 0 | D13: 0 | E13: 0 | F13: 0 | G13: 0
A14: Преобразование энергетических ресурсов | B14: 9 | C14: =SUM(C15:C17) -> 0 | D14: =SUM(D15:D17) -> 0 | E14: =SUM(E15:E17) -> 0 | F14: =SUM(F15:F17) -> 0 | G14: =SUM(G15:G17) -> 0
A15: Переработка нефти | B15: 9.1 | C15: 0 | D15: 0 | E15: 0 | F15: 0 | G15: 0
A16: Переработка газа | B16: 9.2 | C16: 0 | D16: 0 | E16: 0 | F16: 0 | G16: 0
A17: Обогащение угля | B17: 9.3 | C17: 0 | D17: 0 | E17: 0 | F17: 0 | G17: 0
A18: Собственные нужды | B18: 10 | C18: 0 | D18: 0 | E18: 0 | F18: 0 | G18: 0
A19: Потери при передаче | B19: 11 | C19: 0 | D19: 0 | E19: 0 | F19: 0 | G19: 0
A20: Конечное потребление энергетических ресурсов | B20: 12 | C20: =C21+C22+C25+C26+C31+C32+C33 -> 5881.7 | D20: =D21+D22+D25+D26+D31+D32+D33 -> 5900.8 | E20: =E21+E22+E25+E26+E31+E32+E33 -> 5919.8 | F20: =F21+F22+F25+F26+F31+F32+F33 -> 5942 | G20: =G21+G22+G25+G26+G31+G32+G33 -> 6020.9 | H20: =G20-C20 -> 139.2 | I20: =ROUND(H20/C20,3) -> 0.024
A21: Сельское хозяйство, рыболовство и рыбоводство | B21: 13 | C21: 0 | D21: 0 | E21: 0 | F21: 0 | G21: 0
A22: Промышленность | B22: 14 | C22: =SUM(C23:C24) -> 1262.2 | D22: =SUM(D23:D24) -> 1264.6 | E22: =SUM(E23:E24) -> 1267 | F22: =SUM(F23:F24) -> 1272.8 | G22: =SUM(G23:G24) -> 1284 | H22: =G22-C22 -> 21.8 | I22: =ROUND(H22/C22,3) -> 0.017
A23: Продукция обрабатывающих производств | B23: 14.1 | C23: 0 | D23: 0 | E23: 0 | F23: 0 | G23: 0
A24: Продукция прочих производств | B24: 14.2 | C24: 1262.2 | D24: 1264.6 | E24: 1267 | F24: 1272.8 | G24: 1284
A25: Строительство | B25: 15 | C25: 0 | D25: 0 | E25: 0 | F25: 0 | G25: 0
A26: Транспорт и связь | B26: 16 | C26: =C27+C28+C29+C30 -> 2836.7 | D26: =D27+D28+D29+D30 -> 2846.9 | E26: =E27+E28+E29+E30 -> 2857.1 | F26: =F27+F28+F29+F30 -> 2867.4 | G26: =G27+G28+G29+G30 -> 2903
A27: Железнодорожный | B27: 16.1 | C27: 0 | D27: 0 | E27: 0 | F27: 0 | G27: 0
A28: Трубопроводный | B28: 16.2 | C28: 0 | D28: 0 | E28: 0 | F28: 0 | G28: 0
A29: Автомобильный | B29: 16.3 | C29: 2836.7 | D29: 2846.9 | E29: 2857.1 | F29: 2867.4 | G29: 2903 | H29: =G29-C29 -> 66.3 | I29: =ROUND(H29/C29,3) -> 0.023
A30: Прочий | B30: 16.4 | C30: 0 | D30: 0 | E30: 0 | F30: 0 | G30: 0
A31: Сфера услуг | B31: 17 | C31: 0 | D31: 0 | E31: 0 | F31: 0 | G31: 0
A32: Население | B32: 18 | C32: 1778.6 | D32: 1785 | E32: 1791.4 | F32: 1797.8 | G32: 1830 | H32: =G32-C32 -> 51.4 | I32: =ROUND(H32/C32,3) -> 0.029
A33: Использование ТЭР в качестве сырья и на нетопливные нужды | B33: 19 | C33: 4.2 | D33: 4.3 | E33: 4.3 | F33: 4 | G33: 3.9

Sheet Газ
A1: Прогнозный однопродуктовый баланс природного газа МО "Город Отрадное" до 2030 г. (т у.т.) | B1: Индекс строки | C1: Факт 2024 | D1: Прогноз 2025 | E1: Прогноз 2026 | F1: Прогноз 2027 | G1: Оценка 2030 | H1: Абсолютное изменение 2030-2024 | I1: Изменение в процентах к 2024 году
C2: 1 | D2: 2 | E2: 3 | F2: 4 | G2: 5 | H2: 6 | I2: 7
A3: Производство энергетических ресурсов | B3: 1 | C3: 0 | D3: 0 | E3: 0 | F3: 0 | G3: 0
A4: Ввоз | B4: 2 | C4: 39225.2 | D4: 39350.7 | E4: 39408.3 | F4: 39447.3 | G4: 39544.9 | H4: =G4-C4 -> 319.7 | I4: =ROUND(H4/C4,3) -> 0.008
A5: Вывоз | B5: 3 | C5: 0 | D5: 0 | E5: 0 | F5: 0 | G5: 0
A6: Изменение запасов | B6: 0 | C6: 0 | D6: 0 | E6: 0 | F6: 0 | G6: 0
A7: Потребление первичной энергии | B7: 5 | C7: =C3+C4+C5+C6 -> 39225.2 | D7: =D3+D4+D5+D6 -> 39350.7 | E7: =E3+E4+E5+E6 -> 39408.3 | F7: =F3+F4+F5+F6 -> 39447.3 | G7: =G3+G4+G5+G6 -> 39544.9 | H7: =G7-C7 -> 319.7 | I7: =ROUND(H7/C7,3) -> 0.008
A8: Статистическое расхождение | B8: 6 | C8: =ROUND(C7+C9+C10+C14+C18+C19-C20,1) -> 0 | D8: =ROUND(D7+D9+D10+D14+D18+D19-D20,1) -> 0 | E8: =ROUND(E7+E9+E10+E14+E18+E19-E20,1) -> 0 | F8: =ROUND(F7+F9+F10+F14+F18+F19-F20,1) -> 0 | G8: =ROUND(G7+G9+G10+G14+G18+G19-G20,1) -> 0
A9: Производство электрической энергии | B9: 7 | C9: 0 | D9: 0 | E9: 0 | F9: 0 | G9: 0
A10: Производство тепловой энергии | B10: 8 | C10: =SUM(C11:C13) -> -16798 | D10: =SUM(D11:D13) -> -16923.2 | E10: =SUM(E11:E13) -> -16979.6 | F10: =SUM(F11:F13) -> -17014.3 | G10: =SUM(G11:G13) -> -17107.4 | H10: =G10-C10 -> -309.4 | I10: =ROUND(H10/C10,3) -> 0.018
A11: Теплоэлектростанции | B11: 8.1 | C11: 0 | D11: 0 | E11: 0 | F11: 0 | G11: 0
A12: Котельные | B12: 8.2 | C12: -16798 | D12: -16923.2 | E12: -16979.6 | F12: -17014.3 | G12: -17107.4 | H12: =G12-C12 -> -309.4 | I12: =ROUND(H12/C12,3) -> 0.018
A13: Электрокотельные и теплоустановки | B13: 8.3 | C13: 0 | D13: 0 | E13: 0 | F13: 0 | G13: 0
A14: Преобразование энергетических ресурсов | B14: 9 | C14: =SUM(C15:C17) -> 0 | D14: =SUM(D15:D17) -> 0 | E14: =SUM(E15:E17) -> 0 | F14: =SUM(F15:F17) -> 0 | G14: =SUM(G15:G17) -> 0
A15: Переработка нефти | B15: 9.1 | C15: 0 | D15: 0 | E15: 0 | F15: 0 | G15: 0
A16: Переработка газа | B16: 9.2 | C16: 0 | D16: 0 | E16: 0 | F16: 0 | G16: 0
A17: Обогащение угля | B17: 9.3 | C17: 0 | D17: 0 | E17: 0 | F17: 0 | G17: 0
A18: Собственные нужды | B18: 10 | C18: 0 | D18: 0 | E18: 0 | F18: 0 | G18: 0
A19: Потери при передаче | B19: 11 | C19: 0 | D19: 0 | E19: 0 | F19: 0 | G19: 0
A20: Конечное потребление энергетических ресурсов | B20: 12 | C20: =C21+C22+C25+C26+C31+C32+C33 -> 22427.2 | D20: =D21+D22+D25+D26+D31+D32+D33 -> 22427.5 | E20: =E21+E22+E25+E26+E31+E32+E33 -> 22428.7 | F20: =F21+F22+F25+F26+F31+F32+F33 -> 22433 | G20: =G21+G22+G25+G26+G31+G32+G33 -> 22437.5 | H20: =G20-C20 -> 10.3 | I20: =ROUND(H20/C20,3) -> 0
A21: Сельское хозяйство, рыболовство и рыбоводство | B21: 13 | C21: 0 | D21: 0 | E21: 0 | F21: 0 | G21: 0
A22: Промышленность | B22: 14 | C22: =SUM(C23:C24) -> 10401.6 | D22: =SUM(D23:D24) -> 10400.4 | E22: =SUM(E23:E24) -> 10400.8 | F22: =SUM(F23:F24) -> 10401.9 | G22: =SUM(G23:G24) -> 10402.8 | H22: =G22-C22 -> 1.2 | I22: =ROUND(H22/C22,3) -> 0
A23: Продукция обрабатывающих производств | B23: 14.1 | C23: 9145.8 | D23: 9144.8 | E23: 9144.9 | F23: 9145.6 | G23: 9145.6
A24: Продукция прочих производств | B24: 14.2 | C24: 1255.8 | D24: 1255.6 | E24: 1255.9 | F24: 1256.3 | G24: 1257.2
A25: Строительство | B25: 15 | C25: 1018.5 | D25: 1018 | E25: 1018.2 | F25: 1018.5 | G25: 1018.7
A26: Транспорт и связь | B26: 16 | C26: =SUM(C27:C30) -> 0 | D26: =SUM(D27:D30) -> 0 | E26: =SUM(E27:E30) -> 0 | F26: =SUM(F27:F30) -> 0 | G26: =SUM(G27:G30) -> 0
A27: Железнодорожный | B27: 16.1 | C27: 0 | D27: 0 | E27: 0 | F27: 0 | G27: 0
A28: Трубопроводный | B28: 16.2 | C28: 0 | D28: 0 | E28: 0 | F28: 0 | G28: 0
A29: Автомобильный | B29: 16.3 | C29: 0 | D29: 0 | E29: 0 | F29: 0 | G29: 0
A30: Прочий | B30: 16.4 | C30: 0 | D30: 0 | E30: 0 | F30: 0 | G30: 0
A31: Сфера услуг | B31: 17 | C31: 3.9 | D31: 3.9 | E31: 3.9 | F31: 4 | G31: 4
A32: Население | B32: 18 | C32: 11003.2 | D32: 11005.2 | E32: 11005.8 | F32: 11008.6 | G32: 11012 | H32: =G32-C32 -> 8.8 | I32: =ROUND(H32/C32,3) -> 0.001
A33: Использование ТЭР в качестве сырья и на нетопливные нужды | B33: 19 | C33: 0 | D33: 0 | E33: 0 | F33: 0 | G33: 0

Sheet ПТТ
A1: Прогнозный однопродуктовый баланс прочего твердого топлива МО "Город Отрадное" до 2030 г. (т у.т.) | B1: Индекс строки | C1: Факт 2024 | D1: Прогноз 2025 | E1: Прогноз 2026 | F1: Прогноз 2027 | G1: Оценка 2030 | H1: Абсолютное изменение 2030-2024 | I1: Изменение в процентах к 2024 году
C2: 1 | D2: 2 | E2: 3 | F2: 4 | G2: 5 | H2: 6 | I2: 7
A3: Производство энергетических ресурсов | B3: 1 | C3: 0 | D3: 0 | E3: 0 | F3: 0 | G3: 0
A4: Ввоз | B4: 2 | C4: 151 | D4: 146.4 | E4: 148 | F4: 144.3 | G4: 121.6 | H4: =G4-C4 -> -29.4 | I4: =ROUND(H4/C4,3) -> -0.195
A5: Вывоз | B5: 3 | C5: 0 | D5: 0 | E5: 0 | F5: 0 | G5: 0
A6: Изменение запасов | B6: 4 | C6: 3.2 | D6: 3 | E6: -2 | F6: -2 | G6: 0
A7: Потребление первичной энергии | B7: 5 | C7: =C3+C4+C5+C6 -> 154.2 | D7: =D3+D4+D5+D6 -> 149.4 | E7: =E3+E4+E5+E6 -> 146 | F7: =F3+F4+F5+F6 -> 142.3 | G7: =G3+G4+G5+G6 -> 121.6 | H7: =G7-C7 -> -32.6 | I7: =ROUND(H7/C7,3) -> -0.211
A8: Статистическое расхождение | B8: 6 | C8: =ROUND(C7+C9+C10+C14+C18+C19-C20,1) -> 0 | D8: =ROUND(D7+D9+D10+D14+D18+D19-D20,1) -> 0 | E8: =ROUND(E7+E9+E10+E14+E18+E19-E20,1) -> 0 | F8: =ROUND(F7+F9+F10+F14+F18+F19-F20,1) -> 0 | G8: =ROUND(G7+G9+G10+G14+G18+G19-G20,1) -> 0
A9: Производство электрической энергии | B9: 7 | C9: 0 | D9: 0 | E9: 0 | F9: 0 | G9: 0
A10: Производство тепловой энергии | B10: 8 | C10: =SUM(C11:C13) -> 0 | D10: =SUM(D11:D13) -> 0 | E10: =SUM(E11:E13) -> 0 | F10: =SUM(F11:F13) -> 0 | G10: =SUM(G11:G13) -> 0
A11: Теплоэлектростанции | B11: 8.1 | C11: 0 | D11: 0 | E11: 0 | F11: 0 | G11: 0
A12: Котельные | B12: 8.2 | C12: 0 | D12: 0 | E12: 0 | F12: 0 | G12: 0
A13: Электрокотельные и теплоустановки | B13: 8.3 | C13: 0 | D13: 0 | E13: 0 | F13: 0 | G13: 0
A14: Преобразование энергетических ресурсов | B14: 9 | C14: =SUM(C15:C17) -> 0 | D14: =SUM(D15:D17) -> 0 | E14: =SUM(E15:E17) -> 0 | F14: =SUM(F15:F17) -> 0 | G14: =SUM(G15:G17) -> 0
A15: Переработка нефти | B15: 9.1 | C15: 0 | D15: 0 | E15: 0 | F15: 0 | G15: 0
A16: Переработка газа | B16: 9.2 | C16: 0 | D16: 0 | E16: 0 | F16: 0 | G16: 0
A17: Обогащение угля | B17: 9.3 | C17: 0 | D17: 0 | E17: 0 | F17: 0 | G17: 0
A18: Собственные нужды | B18: 10 | C18: 0 | D18: 0 | E18: 0 | F18: 0 | G18: 0
A19: Потери при передаче | B19: 11 | C19: 0 | D19: 0 | E19: 0 | F19: 0 | G19: 0
A20: Конечное потребление энергетических ресурсов | B20: 12 | C20: =C21+C22+C25+C26+C31+C32+C33 -> 154.2 | D20: =D21+D22+D25+D26+D31+D32+D33 -> 149.4 | E20: =E21+E22+E25+E26+E31+E32+E33 -> 146 | F20: =F21+F22+F25+F26+F31+F32+F33 -> 142.3 | G20: =G21+G22+G25+G26+G31+G32+G33 -> 121.6 | H20: =G20-C20 -> -32.6 | I20: =ROUND(H20/C20,3) -> -0.211
A21: Сельское хозяйство, рыболовство и рыбоводство | B21: 13 | C21: 0 | D21: 0 | E21: 0 | F21: 0 | G21: 0
A22: Промышленность | B22: 14 | C22: =SUM(C23:C24) -> 32.5 | D22: =SUM(D23:D24) -> 30 | E22: =SUM(E23:E24) -> 29.2 | F22: =SUM(F23:F24) -> 28.7 | G22: =SUM(G23:G24) -> 26 | H22: =G22-C22 -> -6.5 | I22: =ROUND(H22/C22,3) -> -0.2
A23: Продукция обрабатывающих производств | B23: 14.1 | C23: 0 | D23: 0 | E23: 0 | F23: 0 | G23: 0
A24: Продукция прочих производств | B24: 14.2 | C24: 32.5 | D24: 30 | E24: 29.2 | F24: 28.7 | G24: 26
A25: Строительство | B25: 15 | C25: 0 | D25: 0 | E25: 0 | F25: 0 | G25: 0
A26: Транспорт и связь | B26: 16 | C26: =SUM(C27:C30) -> 0 | D26: =SUM(D27:D30) -> 0 | E26: =SUM(E27:E30) -> 0 | F26: =SUM(F27:F30) -> 0 | G26: =SUM(G27:G30) -> 0
A27: Железнодорожный | B27: 16.1 | C27: 0 | D27: 0 | E27: 0 | F27: 0 | G27: 0
A28: Трубопроводный | B28: 16.2 | C28: 0 | D28: 0 | E28: 0 | F28: 0 | G28: 0
A29: Автомобильный | B29: 16.3 | C29: 0 | D29: 0 | E29: 0 | F29: 0 | G29: 0
A30: Прочий | B30: 16.4 | C30: 0 | D30: 0 | E30: 0 | F30: 0 | G30: 0
A31: Сфера услуг | B31: 17 | C31: 43.1 | D31: 43 | E31: 41.8 | F31: 39.6 | G31: 28.4
A32: Население | B32: 18 | C32: 77.1 | D32: 75.2 | E32: 73.9 | F32: 73 | G32: 66.2 | H32: =G32-C32 -> -10.9 | I32: =ROUND(H32/C32,3) -> -0.141
A33: Использование ТЭР в качестве сырья и на нетопливные нужды | B33: 19 | C33: 1.5 | D33: 1.2 | E33: 1.1 | F33: 1 | G33: 1

Sheet Электроэнергия
A1: Прогнозный однопродуктовый баланс электроэнергии МО "Город Отрадное" до 2030 г. (т у.т.) | B1: Индекс строки | C1: Факт 2024 | D1: Прогноз 2025 | E1: Прогноз 2026 | F1: Прогноз 2027 | G1: Оценка 2030 | H1: Абсолютное изменение 2030-2024 | I1: Изменение в процентах к 2024 году
C2: 1 | D2: 2 | E2: 3 | F2: 4 | G2: 5 | H2: 6 | I2: 7
A3: Производство энергетических ресурсов | B3: 1 | C3: 0 | D3: 0 | E3: 0 | F3: 0 | G3: 0
A4: Ввоз | B4: 2 | C4: 16379.7 | D4: 16414.8 | E4: 16442.5 | F4: 16460.2 | G4: 16530.6
A5: Вывоз | B5: 3 | C5: 0 | D5: 0 | E5: 0 | F5: 0 | G5: 0
A6: Изменение запасов | B6: 4 | C6: 0 | D6: 0 | E6: 0 | F6: 0 | G6: 0
A7: Потребление первичной энергии | B7: 5 | C7: =C3+C4+C5+C6 -> 16379.7 | D7: =D3+D4+D5+D6 -> 16414.8 | E7: =E3+E4+E5+E6 -> 16442.5 | F7: =F3+F4+F5+F6 -> 16460.2 | G7: =G3+G4+G5+G6 -> 16530.6 | H7: =G7-C7 -> 150.9 | I7: =ROUND(H7/C7,3) -> 0.009
A8: Статистическое расхождение | B8: 6 | C8: 0 | D8: =ROUND(D7+D9+D10+D14+D18+D19-D20,1) -> 0 | E8: =ROUND(E7+E9+E10+E14+E18+E19-E20,1) -> 0 | F8: =ROUND(F7+F9+F10+F14+F18+F19-F20,1) -> 0 | G8: =ROUND(G7+G9+G10+G14+G18+G19-G20,1) -> 0
A9: Производство электрической энергии | B9: 7 | C9: 0 | D9: 0 | E9: 0 | F9: 0 | G9: 0
A10: Производство тепловой энергии | B10: 8 | C10: =SUM(C11:C13) -> -146.3 | D10: =SUM(D11:D13) -> -147.39081 | E10: =SUM(E11:E13) -> -147.88148 | F10: =SUM(F11:F13) -> -148.18343 | G10: =SUM(G11:G13) -> -148.99493 | H10: =G10-C10 -> -2.6949305 | I10: =ROUND(H10/C10,3) -> 0.018
A11: Теплоэлектростанции | B11: 8.1 | C11: 0 | D11: 0 | E11: 0 | F11: 0 | G11: 0
A12: Котельные | B12: 8.2 | C12: -146.3 | D12: -147.39081 | E12: -147.88148 | F12: -148.18343 | G12: -148.99493 | H12: =G12-C12 -> -2.6949305 | I12: =ROUND(H12/C12,3) -> 0.018
A13: Электрокотельные и теплоустановки | B13: 8.3 | C13: 0 | D13: 0 | E13: 0 | F13: 0 | G13: 0
A14: Преобразование энергетических ресурсов | B14: 9 | C14: =SUM(C15:C17) -> 0 | D14: =SUM(D15:D17) -> 0 | E14: =SUM(E15:E17) -> 0 | F14: =SUM(F15:F17) -> 0 | G14: =SUM(G15:G17) -> 0
A15: Переработка нефти | B15: 9.1 | C15: 0 | D15: 0 | E15: 0 | F15: 0 | G15: 0
A16: Переработка газа | B16: 9.2 | C16: 0 | D16: 0 | E16: 0 | F16: 0 | G16: 0
A17: Обогащение угля | B17: 9.3 | C17: 0 | D17: 0 | E17: 0 | F17: 0 | G17: 0
A18: Собственные нужды | B18: 10 | C18: 0 | D18: 0 | E18: 0 | F18: 0 | G18: 0
A19: Потери при передаче | B19: 11 | C19: -1488.6 | D19: -1491.7 | E19: -1494.2 | F19: -1495.8 | G19: -1502.2 | H19: =G19-C19 -> -13.6 | I19: =ROUND(H19/C19,3) -> 0.009
A20: Конечное потребление энергетических ресурсов | B20: 12 | C20: =C21+C22+C25+C26+C31+C32+C33 -> 14744.8 | D20: =D21+D22+D25+D26+D31+D32+D33 -> 14775.7 | E20: =E21+E22+E25+E26+E31+E32+E33 -> 14800.4 | F20: =F21+F22+F25+F26+F31+F32+F33 -> 14816.2 | G20: =G21+G22+G25+G26+G31+G32+G33 -> 14879.4 | H20: =G20-C20 -> 134.6 | I20: =ROUND(H20/C20,3) -> 0.009
A21: Сельское хозяйство, рыболовство и рыбоводство | B21: 13 | C21: 0 | D21: 0 | E21: 0 | F21: 0 | G21: 0
A22: Промышленность | B22: 14 | C22: =SUM(C23:C24) -> 9704.9 | D22: =SUM(D23:D24) -> 9698.9 | E22: =SUM(E23:E24) -> 9703.2 | F22: =SUM(F23:F24) -> 9716.3 | G22: =SUM(G23:G24) -> 9746.4 | H22: =G22-C22 -> 41.5 | I22: =ROUND(H22/C22,3) -> 0.004
A23: Продукция обрабатывающих производств | B23: 14.1 | C23: 6274.7 | D23: 6268.9 | E23: 6270.6 | F23: 6277.4 | G23: 6303.8
A24: Продукция прочих производств | B24: 14.2 | C24: 3430.2 | D24: 3430 | E24: 3432.6 | F24: 3438.9 | G24: 3442.6
A25: Строительство | B25: 15 | C25: 62.6 | D25: 62.8 | E25: 62.8 | F25: 63.4 | G25: 64.6 | H25: =G25-C25 -> 2 | I25: =ROUND(H25/C25,3) -> 0.032
A26: Транспорт и связь | B26: 16 | C26: =SUM(C27:C30) -> 32.8 | D26: =SUM(D27:D30) -> 32.6 | E26: =SUM(E27:E30) -> 32.4 | F26: =SUM(F27:F30) -> 32.4 | G26: =SUM(G27:G30) -> 32.8
A27: Железнодорожный | B27: 16.1 | C27: 0 | D27: 0 | E27: 0 | F27: 0 | G27: 0
A28: Трубопроводный | B28: 16.2 | C28: 0 | D28: 0 | E28: 0 | F28: 0 | G28: 0
A29: Автомобильный | B29: 16.3 | C29: 0 | D29: 0 | E29: 0 | F29: 0 | G29: 0
A30: Прочий | B30: 16.4 | C30: 32.8 | D30: 32.6 | E30: 32.4 | F30: 32.4 | G30: 32.8
A31: Сфера услуг | B31: 17 | C31: 525.1 | D31: 529 | E31: 531.2 | F31: 531.4 | G31: 534.7 | H31: =G31-C31 -> 9.6 | I31: =ROUND(H31/C31,3) -> 0.018
A32: Население | B32: 18 | C32: 4419.4 | D32: 4452.4 | E32: 4470.8 | F32: 4472.7 | G32: 4500.9 | H32: =G32-C32 -> 81.5 | I32: =ROUND(H32/C32,3) -> 0.018
A33: Использование ТЭР в качестве сырья и на нетопливные нужды | B33: 19 | C33: 0 | D33: 0 | E33: 0 | F33: 0 | G33: 0

Sheet Тепло
A1: Прогнозный однопродуктовый баланс тепловой энергии МО "Город Отрадное" до 2030 г. (т у.т.) | B1: Индекс строки | C1: Факт 2024 | D1: Прогноз 2025 | E1: Прогноз 2026 | F1: Прогноз 2027 | G1: Оценка 2030 | H1: Абсолютное изменение 2030-2024 | I1: Изменение в процентах к 2024 году
C2: 1 | D2: 2 | E2: 3 | F2: 4 | G2: 5 | H2: 6 | I2: 7
A3: Производство энергетических ресурсов | B3: 1 | C3: 0 | D3: 0 | E3: 0 | F3: 0 | G3: 0
A4: Ввоз | B4: 2 | C4: 58.5 | D4: 58.5 | E4: 58.2 | F4: 54 | G4: 54 | H4: =G4-C4 -> -4.5 | I4: =ROUND(H4/C4,3) -> -0.077
A5: Вывоз | B5: 3 | C5: 0 | D5: 0 | E5: 0 | F5: 0 | G5: 0
A6: Изменение запасов | B6: 4 | C6: 0 | D6: 0 | E6: 0 | F6: 0 | G6: 0
A7: Потребление первичной энергии | B7: 5 | C7: =C3+C4+C5+C6 -> 58.5 | D7: =D3+D4+D5+D6 -> 58.5 | E7: =E3+E4+E5+E6 -> 58.2 | F7: =F3+F4+F5+F6 -> 54 | G7: =G3+G4+G5+G6 -> 54
A8: Статистическое расхождение | B8: 6 | C8: =ROUND(C7+C9+C10+C14+C18+C19-C20,1) -> 0 | D8: =ROUND(D7+D9+D10+D14+D18+D19-D20,1) -> 0 | E8: =ROUND(E7+E9+E10+E14+E18+E19-E20,1) -> 0 | F8: =ROUND(F7+F9+F10+F14+F18+F19-F20,1) -> 0 | G8: =ROUND(G7+G9+G10+G14+G18+G19-G20,1) -> 0
A9: Производство электрической энергии | B9: 7 | C9: 0 | D9: 0 | E9: 0 | F9: 0 | G9: 0
A10: Производство тепловой энергии | B10: 8 | C10: =SUM(C11:C13) -> 15504.4 | D10: =SUM(D11:D13) -> 15620 | E10: =SUM(E11:E13) -> 15672 | F10: =SUM(F11:F13) -> 15704 | G10: =SUM(G11:G13) -> 15790 | H10: =G10-C10 -> 285.6 | I10: =ROUND(H10/C10,3) -> 0.018
A11: Теплоэлектростанции | B11: 8.1 | C11: 0 | D11: 0 | E11: 0 | F11: 0 | G11: 0 | H11: =G11-C11 -> 0
A12: Котельные | B12: 8.2 | C12: 15504.4 | D12: 15620 | E12: 15672 | F12: 15704 | G12: 15790 | H12: =G12-C12 -> 285.6 | I12: =ROUND(H12/C12,3) -> 0.018
A13: Электрокотельные и теплоустановки | B13: 8.3 | C13: 0 | D13: 0 | E13: 0 | F13: 0 | G13: 0 | H13: =G13-C13 -> 0
A14: Преобразование энергетических ресурсов | B14: 9 | C14: =SUM(C15:C17) -> 0 | D14: =SUM(D15:D17) -> 0 | E14: =SUM(E15:E17) -> 0 | F14: =SUM(F15:F17) -> 0 | G14: =SUM(G15:G17) -> 0
A15: Переработка нефти | B15: 9.1 | C15: 0 | D15: 0 | E15: 0 | F15: 0 | G15: 0
A16: Переработка газа | B16: 9.2 | C16: 0 | D16: 0 | E16: 0 | F16: 0 | G16: 0
A17: Обогащение угля | B17: 9.3 | C17: 0 | D17: 0 | E17: 0 | F17: 0 | G17: 0
A18: Собственные нужды | B18: 10 | C18: -685.4 | D18: -690.5 | E18: -690.5 | F18: -698 | G18: -698 | H18: =G18-C18 -> -12.6 | I18: =ROUND(H18/C18,3) -> 0.018
A19: Потери при передаче | B19: 11 | C19: -1228.4 | D19: -1237.6 | E19: -1238.2 | F19: -1252 | G19: -1252 | H19: =G19-C19 -> -23.6 | I19: =ROUND(H19/C19,3) -> 0.019
A20: Конечное потребление энергетических ресурсов | B20: 12 | C20: =C21+C22+C25+C26+C31+C32+C33 -> 13649.1 | D20: =D21+D22+D25+D26+D31+D32+D33 -> 13750.4 | E20: =E21+E22+E25+E26+E31+E32+E33 -> 13801.5 | F20: =F21+F22+F25+F26+F31+F32+F33 -> 13808 | G20: =G21+G22+G25+G26+G31+G32+G33 -> 13894 | H20: =G20-C20 -> 244.9 | I20: =ROUND(H20/C20,3) -> 0.018
A21: Сельское хозяйство, рыболовство и рыбоводство | B21: 13 | C21: 0 | D21: 0 | E21: 0 | F21: 0 | G21: 0 | H21: =G21-C21 -> 0
A22: Промышленность | B22: 14 | C22: =SUM(C23:C24) -> 294.1 | D22: =SUM(D23:D24) -> 291.1 | E22: =SUM(E23:E24) -> 292.2 | F22: =SUM(F23:F24) -> 293.5 | G22: =SUM(G23:G24) -> 294.3 | H22: =G22-C22 -> 0.2 | I22: =ROUND(H22/C22,3) -> 0.001
A23: Продукция обрабатывающих производств | B23: 14.1 | C23: 133.1 | D23: 131.9 | E23: 132.5 | F23: 133.2 | G23: 133.5
A24: Продукция прочих производств | B24: 14.2 | C24: 161 | D24: 159.2 | E24: 159.7 | F24: 160.3 | G24: 160.8
A25: Строительство | B25: 15 | C25: 27.1 | D25: 27 | E25: 27.1 | F25: 27.2 | G25: 27.3 | H25: =G25-C25 -> 0.2 | I25: =ROUND(H25/C25,3) -> 0.007
A26: Транспорт и связь | B26: 16 | C26: =SUM(C27:C30) -> 52.2 | D26: =SUM(D27:D30) -> 51.2 | E26: =SUM(E27:E30) -> 51.4 | F26: =SUM(F27:F30) -> 51.8 | G26: =SUM(G27:G30) -> 52.2 | H26: =G26-C26 -> 0 | I26: =ROUND(H26/C26,3) -> 0
A27: Железнодорожный | B27: 16.1 | C27: 0 | D27: 0 | E27: 0 | F27: 0 | G27: 0
A28: Трубопроводный | B28: 16.2 | C28: 0 | D28: 0 | E28: 0 | F28: 0 | G28: 0
A29: Автомобильный | B29: 16.3 | C29: 32.3 | D29: 32 | E29: 32.1 | F29: 32.3 | G29: 32.5
A30: Прочий | B30: 16.4 | C30: 19.9 | D30: 19.2 | E30: 19.3 | F30: 19.5 | G30: 19.7
A31: Сфера услуг | B31: 17 | C31: 1385.4 | D31: 1402.1 | E31: 1402.2 | F31: 1401.9 | G31: 1410.8 | H31: =G31-C31 -> 25.4 | I31: =ROUND(H31/C31,3) -> 0.018
A32: Население | B32: 18 | C32: 11890.3 | D32: 11979 | E32: 12028.6 | F32: 12033.6 | G32: 12109.4 | H32: =G32-C32 -> 219.1 | I32: =ROUND(H32/C32,3) -> 0.018
A33: Использование ТЭР в качестве сырья и на нетопливные нужды | B33: 19 | C33: 0 | D33: 0 | E33: 0 | F33: 0 | G33: 0
