Workbook

Sheet ТЭБ 2024
A1: Фактический топливно-энергетический баланс МО "Город Отрадное" за 2024 г. (т у.т.) | B1: Индекс строки | C1: Уголь | D1: Сырая нефть | E1: Нефте-продукты | F1: Природный газ | G1: Прочее твердое топливо | H1: Гидро-энергия и НВИЭ | I1: Атомная энергия | J1: Электро-энергия | K1: Тепловая энергия | L1: Всего
C2: 1 | D2: 2 | E2: 3 | F2: 4 | G2: 5 | H2: 6 | I2: 7 | J2: 8 | K2: 9 | L2: 10
A3: Производство энергетических ресурсов | B3: 1 | C3: 0 | D3: 0 | E3: =Нефтепродукты!F3 -> 0 | F3: =Газ!D3 -> 0 | G3: =ПТТ!D3 -> 0 | H3: 0 | I3: 0 | J3: =Электроэнергия!D3 -> 0 | K3: =Тепло!D3 -> 0 | L3: =SUM(C3:K3) -> 0
A4: Ввоз | B4: 2 | C4: 0 | D4: 0 | E4: =Нефтепродукты!F4 -> 5994.5 | F4: =Газ!D4 -> 39225.2 | G4: =ПТТ!D4 -> 151 | H4: 0 | I4: 0 | J4: =Электроэнергия!D4 -> 16379.7 | K4: =Тепло!D4 -> 58.5 | L4: =SUM(C4:K4) -> 61808.9
A5: Вывоз | B5: 3 | C5: 0 | D5: 0 | E5: =Нефтепродукты!F5 -> 0 | F5: =Газ!D5 -> 0 | G5: =ПТТ!D5 -> 0 | H5: 0 | I5: 0 | J5: =Электроэнергия!D5 -> 0 | K5: =Тепло!D5 -> 0 | L5: =SUM(C5:K5) -> 0
A6: Изменение запасов | B6: 4 | C6: 0 | D6: 0 | E6: =Нефтепродукты!F6 -> 26.3 | F6: =Газ!D6 -> 0 | G6: =ПТТ!D6 -> 3.2 | H6: 0 | I6: 0 | J6: =Электроэнергия!D6 -> 0 | K6: =Тепло!D6 -> 0 | L6: =SUM(C6:K6) -> 29.5
A7: Потребление первичной энергии | B7: 5 | C7: =SUM(C3:C6) -> 0 | D7: =SUM(D3:D6) -> 0 | E7: =SUM(E3:E6) -> 6020.8 | F7: =SUM(F3:F6) -> 39225.2 | G7: =SUM(G3:G6) -> 154.2 | H7: =SUM(H3:H6) -> 0 | I7: =SUM(I3:I6) -> 0 | J7: =SUM(J3:J6) -> 16379.7 | K7: =SUM(K3:K6) -> 58.5 | L7: =SUM(C7:K7) -> 61838.4
A8: Статистическое расхождение | B8: 6 | C8: =ROUND(C7+C9+C10+C14+C18+C19-C20,1) -> 0 | D8: =ROUND(D7+D9+D10+D14+D18+D19-D20,1) -> 0 | E8: =ROUND(E7+E9+E10+E14+E18+E19-E20,1) -> 0 | F8: =ROUND(F7+F9+F10+F14+F18+F19-F20,1) -> 0 | G8: =ROUND(G7+G9+G10+G14+G18+G19-G20,1) -> 0 | H8: =ROUND(H7+H9+H10+H14+H18+H19-H20,1) -> 0 | I8: =ROUND(I7+I9+I10+I14+I18+I19-I20,1) -> 0 | J8: =ROUND(J7+J9+J10+J14+J18+J19-J20,1) -> 0 | K8: =ROUND(K7+K9+K10+K14+K18+K19-K20,1) -> 0 | L8: =SUM(C8:K8) -> 0
A9: Производство электрической энергии | B9: 7 | C9: 0 | D9: 0 | E9: =Нефтепродукты!F9 -> 0 | F9: =Газ!D9 -> 0 | G9: =ПТТ!D9 -> 0 | H9: 0 | I9: 0 | J9: =Электроэнергия!D9 -> 0 | K9: =Тепло!D9 -> 0 | L9: =SUM(C9:K9) -> 0
A10: Производство тепловой энергии | B10: 8 | C10: =SUM(C11:C13) -> 0 | D10: =SUM(D11:D13) -> 0 | E10: =SUM(E11:E13) -> -139.1 | F10: =SUM(F11:F13) -> -16798 | G10: =SUM(G11:G13) -> 0 | H10: =SUM(H11:H13) -> 0 | I10: =SUM(I11:I13) -> 0 | J10: =SUM(J11:J13) -> -146.3 | K10: =SUM(K11:K13) -> 15504.4 | L10: =SUM(C10:K10) -> -1579 | M10: =-K10/(E10+F10+J10) -> 0.90757109
A11: Теплоэлектростанции | B11: 8.1 | C11: 0 | D11: 0 | E11: =Нефтепродукты!F11 -> 0 | F11: =Газ!D11 -> 0 | G11: =ПТТ!D11 -> 0 | H11: 0 | I11: 0 | J11: =Электроэнергия!D11 -> 0 | K11: =Тепло!D11 -> 0 | L11: =SUM(C11:K11) -> 0
A12: Котельные | B12: 8.2 | C12: 0 | D12: 0 | E12: =Нефтепродукты!F12 -> -139.1 | F12: =Газ!D12 -> -16798 | G12: =ПТТ!D12 -> 0 | H12: 0 | I12: 0 | J12: =Электроэнергия!D12 -> -146.3 | K12: =Тепло!D12 -> 15504.4 | L12: =SUM(C12:K12) -> -1579
A13: Электрокотельные и теплоустановки | B13: 8.3 | C13: 0 | D13: 0 | E13: =Нефтепродукты!F13 -> 0 | F13: =Газ!D13 -> 0 | G13: =ПТТ!D13 -> 0 | H13: 0 | I13: 0 | J13: =Электроэнергия!D13 -> 0 | K13: =Тепло!D13 -> 0 | L13: =SUM(C13:K13) -> 0
A14: Преобразование энергетических ресурсов | B14: 9 | C14: =SUM(C15:C17) -> 0 | D14: =SUM(D15:D17) -> 0 | E14: =SUM(E15:E17) -> 0 | F14: =SUM(F15:F17) -> 0 | G14: =SUM(G15:G17) -> 0 | H14: =SUM(H15:H17) -> 0 | I14: =SUM(I15:I17) -> 0 | J14: =SUM(J15:J17) -> 0 | ... L14: =SUM(L15:L17) -> 0
A15: Переработка нефти | B15: 9.1 | C15: 0 | D15: 0 | E15: =Нефтепродукты!F15 -> 0 | F15: =Газ!D15 -> 0 | G15: =ПТТ!D15 -> 0 | H15: 0 | I15: 0 | J15: =Электроэнергия!D15 -> 0 | K15: =Тепло!D15 -> 0 | L15: =SUM(C15:K15) -> 0
A16: Переработка газа | B16: 9.2 | C16: 0 | D16: 0 | E16: =Нефтепродукты!F16 -> 0 | F16: =Газ!D16 -> 0 | G16: =ПТТ!D16 -> 0 | H16: 0 | I16: 0 | J16: =Электроэнергия!D16 -> 0 | K16: =Тепло!D16 -> 0 | L16: =SUM(C16:K16) -> 0
A17: Обогащение угля | B17: 9.3 | C17: 0 | D17: 0 | E17: =Нефтепродукты!F17 -> 0 | F17: =Газ!D17 -> 0 | G17: =ПТТ!D17 -> 0 | H17: 0 | I17: 0 | J17: =Электроэнергия!D17 -> 0 | K17: =Тепло!D17 -> 0 | L17: =SUM(C17:K17) -> 0
A18: Собственные нужды | B18: 10 | C18: 0 | D18: 0 | E18: =Нефтепродукты!F18 -> 0 | F18: =Газ!D18 -> 0 | G18: =ПТТ!D18 -> 0 | H18: 0 | I18: 0 | J18: =Электроэнергия!D18 -> 0 | K18: =Тепло!D18 -> -685.4 | L18: =SUM(C18:K18) -> -685.4
A19: Потери при передаче | B19: 11 | C19: 0 | D19: 0 | E19: =Нефтепродукты!F19 -> 0 | F19: =Газ!D19 -> 0 | G19: =ПТТ!D19 -> 0 | H19: 0 | I19: 0 | J19: =Электроэнергия!D19 -> -1488.6 | K19: =Тепло!D19 -> -1228.4 | L19: =SUM(C19:K19) -> -2717
A20: Конечное потребление энергетических ресурсов | B20: 12 | C20: =C21+C22+C25+C26+C31+C32+C33 -> 0 | D20: =D21+D22+D25+D26+D31+D32+D33 -> 0 | E20: =E21+E22+E25+E26+E31+E32+E33 -> 5881.7 | F20: =F21+F22+F25+F26+F31+F32+F33 -> 22427.2 | G20: =G21+G22+G25+G26+G31+G32+G33 -> 154.2 | H20: =H21+H22+H25+H26+H31+H32+H33 -> 0 | I20: =I21+I22+I25+I26+I31+I32+I33 -> 0 | J20: =J21+J22+J25+J26+J31+J32+J33 -> 14744.8 | ... L20: =L21+L22+L25+L26+L31+L32+L33 -> 56857
A21: Сельское хозяйство, рыболовство и рыбоводство | B21: 13 | C21: 0 | D21: 0 | E21: =Нефтепродукты!F21 -> 0 | F21: =Газ!D21 -> 0 | G21: =ПТТ!D21 -> 0 | H21: 0 | I21: 0 | J21: =Электроэнергия!D21 -> 0 | K21: =Тепло!D21 -> 0 | L21: =SUM(C21:K21) -> 0
A22: Промышленность | B22: 14 | C22: =SUM(C23:C24) -> 0 | D22: =SUM(D23:D24) -> 0 | E22: =SUM(E23:E24) -> 1262.2 | F22: =SUM(F23:F24) -> 10401.6 | G22: =SUM(G23:G24) -> 32.5 | H22: =SUM(H23:H24) -> 0 | I22: =SUM(I23:I24) -> 0 | J22: =SUM(J23:J24) -> 9704.9 | ... L22: =SUM(L23:L24) -> 21695.3
A23: Продукция обрабатывающих производств | B23: 14.1 | C23: 0 | D23: 0 | E23: =Нефтепродукты!F23 -> 0 | F23: =Газ!D23 -> 9145.8 | G23: =ПТТ!D23 -> 0 | H23: 0 | I23: 0 | J23: =Электроэнергия!D23 -> 6274.7 | K23: =Тепло!D23 -> 133.1 | L23: =SUM(C23:K23) -> 15553.6
A24: Продукция прочих производств | B24: 14.2 | C24: 0 | D24: 0 | E24: =Нефтепродукты!F24 -> 1262.2 | F24: =Газ!D24 -> 1255.8 | G24: =ПТТ!D24 -> 32.5 | H24: 0 | I24: 0 | J24: =Электроэнергия!D24 -> 3430.2 | K24: =Тепло!D24 -> 161 | L24: =SUM(C24:K24) -> 6141.7
A25: Строительство | B25: 15 | C25: 0 | D25: 0 | E25: =Нефтепродукты!F25 -> 0 | F25: =Газ!D25 -> 1018.5 | G25: =ПТТ!D25 -> 0 | H25: 0 | I25: 0 | J25: =Электроэнергия!D25 -> 62.6 | K25: =Тепло!D25 -> 27.1 | L25: =SUM(C25:K25) -> 1108.2
A26: Транспорт и связь | B26: 16 | C26: =SUM(C27:C30) -> 0 | D26: =SUM(D27:D30) -> 0 | E26: =SUM(E27:E30) -> 2836.7 | F26: =SUM(F27:F30) -> 0 | G26: =SUM(G27:G30) -> 0 | H26: =SUM(H27:H30) -> 0 | I26: =SUM(I27:I30) -> 0 | J26: =SUM(J27:J30) -> 32.8 | ... L26: =SUM(L27:L30) -> 2921.7
A27: Железнодорожный | B27: 16.1 | C27: 0 | D27: 0 | E27: =Нефтепродукты!F27 -> 0 | F27: =Газ!D27 -> 0 | G27: =ПТТ!D27 -> 0 | H27: 0 | I27: 0 | J27: =Электроэнергия!D27 -> 0 | K27: =Тепло!D27 -> 0 | L27: =SUM(C27:K27) -> 0
A28: Трубопроводный | B28: 16.2 | C28: 0 | D28: 0 | E28: =Нефтепродукты!F28 -> 0 | F28: =Газ!D28 -> 0 | G28: =ПТТ!D28 -> 0 | H28: 0 | I28: 0 | J28: =Электроэнергия!D28 -> 0 | K28: =Тепло!D28 -> 0 | L28: =SUM(C28:K28) -> 0
A29: Автомобильный | B29: 16.3 | C29: 0 | D29: 0 | E29: =Нефтепродукты!F29 -> 2836.7 | F29: =Газ!D29 -> 0 | G29: =ПТТ!D29 -> 0 | H29: 0 | I29: 0 | J29: =Электроэнергия!D29 -> 0 | K29: =Тепло!D29 -> 32.3 | L29: =SUM(C29:K29) -> 2869
A30: Прочий | B30: 16.4 | C30: 0 | D30: 0 | E30: =Нефтепродукты!F30 -> 0 | F30: =Газ!D30 -> 0 | G30: =ПТТ!D30 -> 0 | H30: 0 | I30: 0 | J30: =Электроэнергия!D30 -> 32.8 | K30: =Тепло!D30 -> 19.9 | L30: =SUM(C30:K30) -> 52.7
A31: Сфера услуг | B31: 17 | C31: 0 | D31: 0 | E31: =Нефтепродукты!F31 -> 0 | F31: =Газ!D31 -> 3.9 | G31: =ПТТ!D31 -> 43.1 | H31: 0 | I31: 0 | J31: =Электроэнергия!D31 -> 525.1 | K31: =Тепло!D31 -> 1385.4 | L31: =SUM(C31:K31) -> 1957.5
A32: Население | B32: 18 | C32: 0 | D32: 0 | E32: =Нефтепродукты!F32 -> 1778.6 | F32: =Газ!D32 -> 11003.2 | G32: =ПТТ!D32 -> 77.1 | H32: 0 | I32: 0 | J32: =Электроэнергия!D32 -> 4419.4 | K32: =Тепло!D32 -> 11890.3 | L32: =SUM(C32:K32) -> 29168.6
A33: Использование ТЭР в качестве сырья и на нетопливные нужды | B33: 19 | C33: 0 | D33: 0 | E33: =Нефтепродукты!F33 -> 4.2 | F33: =Газ!D33 -> 0 | G33: =ПТТ!D33 -> 1.5 | H33: 0 | I33: 0 | J33: =Электроэнергия!D33 -> 0 | K33: =Тепло!D33 -> 0 | L33: =SUM(C33:K33) -> 5.7
A35: Полное конечное потребление (плюс СН и потери) | J35: =J20-J19-J18 -> 16233.4 | K35: =K20-K19-K18 -> 15562.9

Sheet Диаграммы
B2: Потребление первичной энергии по видам ТЭР в 2024 г. | C2: Тыс. т.у.т | D2: %
B3: Тепловая энергия | C3: ='ТЭБ 2024'!K7/1000 -> 0.0585 | D3: =C3/$C$8 -> 0.00094601413
B4: Прочее твердое топливо | C4: ='ТЭБ 2024'!G7/1000 -> 0.1542 | D4: =C4/$C$8 -> 0.0024935962
B5: Нефтепродукты | C5: ='ТЭБ 2024'!E7/1000 -> 6.0208 | D5: =C5/$C$8 -> 0.097363451
B6: Электроэнергия | C6: ='ТЭБ 2024'!J7/1000 -> 16.3797 | D6: =C6/$C$8 -> 0.2648791
B7: Природный газ | C7: ='ТЭБ 2024'!F7/1000 -> 39.2252 | D7: =C7/$C$8 -> 0.63431783
B8: Всего | C8: ='ТЭБ 2024'!L7/1000 -> 61.8384 | D8: =C8/$C$8 -> 1
B21: Конечное потребление по видам ресурсов в 2024 г. | C21: Т.у.т | D21: %
B22: Нефтепродукты | C22: ='ТЭБ 2024'!E20 -> 5881.7 | D22: =C22/$C$27 -> 0.10344724
B23: Природный газ | C23: ='ТЭБ 2024'!F20 -> 22427.2 | D23: =C23/$C$27 -> 0.39444923
B24: Прочее твердое топливо | C24: ='ТЭБ 2024'!G20 -> 154.2 | D24: =C24/$C$27 -> 0.0027120671
B25: Электроэнергия | C25: ='ТЭБ 2024'!J20 -> 14744.8 | D25: =C25/$C$27 -> 0.2593313
B26: Тепловая энергия | C26: ='ТЭБ 2024'!K20 -> 13649.1 | D26: =C26/$C$27 -> 0.24006015
B27: Всего | C27: =SUM(C22:C26) -> 56857 | D27: =C27/$C$27 -> 1
B42: Конечное потребление по секторам экономики в 2024 г. | C42: Т.у.т | D42: %
B43: Продукция обрабатывающих производств | C43: ='ТЭБ 2024'!L23 -> 15553.6 | D43: =C43/C$50 -> 0.27355647
B44: Продукция прочих производств | C44: ='ТЭБ 2024'!L24 -> 6141.7 | D44: =C44/C$50 -> 0.10802012
B45: Строительство | C45: ='ТЭБ 2024'!L25 -> 1108.2 | D45: =C45/C$50 -> 0.019491004
B46: Транспорт и связь | C46: ='ТЭБ 2024'!L26 -> 2921.7 | D46: =C46/C$50 -> 0.051386813
B47: Сфера услуг | C47: ='ТЭБ 2024'!L31 -> 1957.5 | D47: =C47/C$50 -> 0.034428478
B48: Население | C48: ='ТЭБ 2024'!L32 -> 29168.6 | D48: =C48/C$50 -> 0.51301687
B49: Использование ТЭР в качестве сырья и на нетопливные нужды | C49: ='ТЭБ 2024'!L33 -> 5.7 | D49: =C49/C$50 -> 0.00010025151
B50: Всего | C50: =SUM(C43:C49) -> 56857 | D50: =C50/C$50 -> 1
B65: Потребление электроэнергии по секторам в 2024 г. | C65: Т.у.т | D65: %
B66: Котельные для производства тепловой энергии | C66: =-'ТЭБ 2024'!J10 -> 146.3 | D66: =C66/C$73 -> 0.0089317875
B67: Потери | C67: =-'ТЭБ 2024'!J19 -> 1488.6 | D67: =C67/C$73 -> 0.090880785
B68: Промышленность | C68: ='ТЭБ 2024'!J22 -> 9704.9 | D68: =C68/C$73 -> 0.59249559
B69: Строительство | C69: ='ТЭБ 2024'!J25 -> 62.6 | D69: =C69/C$73 -> 0.0038218038
B70: Транспорт и связь | C70: ='ТЭБ 2024'!J26 -> 32.8 | D70: =C70/C$73 -> 0.0020024787
B71: Сфера услуг | C71: ='ТЭБ 2024'!J31 -> 525.1 | D71: =C71/C$73 -> 0.032057974
B72: Население | C72: ='ТЭБ 2024'!J32 -> 4419.4 | D72: =C72/C$73 -> 0.26980958
B73: Всего | C73: =SUM(C66:C72) -> 16379.7 | D73: =C73/C$73 -> 1
B88: Потребление тепловой энергии по секторам в 2024 г. | C88: Т.у.т | D88: %
B89: Собственные нужды | C89: =-'ТЭБ 2024'!K18 -> 685.4 | D89: =C89/C$96 -> 0.044040635
B90: Потери | C90: =-'ТЭБ 2024'!K19 -> 1228.4 | D90: =C90/C$96 -> 0.078931305
B91: Промышленность | C91: ='ТЭБ 2024'!K22 -> 294.1 | D91: =C91/C$96 -> 0.018897506
B92: Строительство | C92: ='ТЭБ 2024'!K25 -> 27.1 | D92: =C92/C$96 -> 0.0017413207
B93: Транспорт и связь | C93: ='ТЭБ 2024'!K26 -> 52.2 | D93: =C93/C$96 -> 0.0033541307
B94: Сфера услуг | C94: ='ТЭБ 2024'!K31 -> 1385.4 | D94: =C94/C$96 -> 0.089019399
B95: Население | C95: ='ТЭБ 2024'!K32 -> 11890.3 | D95: =C95/C$96 -> 0.7640157
...

Sheet Нефтепродукты
A1: Однопродуктовый баланс нефтепродуктов МО "Город Отрадное" за 2024 г. | B1: Индекс строки | C1: Бензин авто-мобильный, тонн | D1: Топливо дизельное, тонн | E1: Пропан и бутан сжиженные, тонн | F1: Всего нефте-продукты, т у.т | G1: Комментарий
C2: 1 | D2: 2 | E2: 3 | F2: 4 | G2: 5
A3: Производство энергетических ресурсов | B3: 1 | C3: 0 | D3: 0 | E3: 0 | F3: =ROUND(C3*$C$35+D3*$D$35+E3*$E$35,1) -> 0
A4: Ввоз | B4: 2 | C4: 822 | D4: 3012.9 | E4: 255.4 | F4: =ROUND(C4*$C$35+D4*$D$35+E4*$E$35,1) -> 5994.5
A5: Вывоз | B5: 3 | C5: 0 | D5: 0 | E5: 0 | F5: =ROUND(C5*$C$35+D5*$D$35+E5*$E$35,1) -> 0
A6: Изменение запасов | B6: 4 | C6: -4.8 | D6: 16.6 | E6: 6 | F6: =ROUND(C6*$C$35+D6*$D$35+E6*$E$35,1) -> 26.3
A7: Потребление первичной энергии | B7: 5 | C7: =C3+C4+C5+C6 -> 817.2 | D7: =D3+D4+D5+D6 -> 3029.5 | E7: =E3+E4+E5+E6 -> 261.4 | F7: =ROUND(C7*$C$35+D7*$D$35+E7*$E$35,1) -> 6020.8 | G7: Сумма
A8: Статистическое расхождение | B8: 6 | C8: =ROUND(C7+C9+C10+C14+C18+C19-C20,1) -> 0 | D8: =ROUND(D7+D9+D10+D14+D18+D19-D20,1) -> 0 | E8: =ROUND(E7+E9+E10+E14+E18+E19-E20,1) -> 0 | F8: =ROUND(F7+F9+F10+F14+F18+F19-F20,1) -> 0 | G8: Расчетное значение
A9: Производство электрической энергии | B9: 7 | C9: 0 | D9: 0 | E9: 0 | F9: =ROUND(C9*$C$35+D9*$D$35+E9*$E$35,1) -> 0
A10: Производство тепловой энергии | B10: 8 | C10: =SUM(C11:C13) -> 0 | D10: =SUM(D11:D13) -> -95.9 | E10: =SUM(E11:E13) -> 0 | F10: =ROUND(C10*$C$35+D10*$D$35+E10*$E$35,1) -> -139.1
A11: Теплоэлектростанции | B11: 8.1 | C11: 0 | D11: 0 | E11: 0 | F11: =ROUND(C11*$C$35+D11*$D$35+E11*$E$35,1) -> 0
A12: Котельные | B12: 8.2 | C12: 0 | D12: -95.9 | E12: 0 | F12: =ROUND(C12*$C$35+D12*$D$35+E12*$E$35,1) -> -139.1
A13: Электрокотельные и теплоустановки | B13: 8.3 | C13: 0 | D13: 0 | E13: 0 | F13: =ROUND(C13*$C$35+D13*$D$35+E13*$E$35,1) -> 0
A14: Преобразование энергетических ресурсов | B14: 9 | C14: =SUM(C15:C17) -> 0 | D14: =SUM(D15:D17) -> 0 | E14: =SUM(E15:E17) -> 0 | F14: =ROUND(C14*$C$35+D14*$D$35+E14*$E$35,1) -> 0
A15: Переработка нефти | B15: 9.1 | C15: 0 | D15: 0 | E15: 0 | F15: =ROUND(C15*$C$35+D15*$D$35+E15*$E$35,1) -> 0
A16: Переработка газа | B16: 9.2 | C16: 0 | D16: 0 | E16: 0 | F16: =ROUND(C16*$C$35+D16*$D$35+E16*$E$35,1) -> 0
A17: Обогащение угля | B17: 9.3 | C17: 0 | D17: 0 | E17: 0 | F17: =ROUND(C17*$C$35+D17*$D$35+E17*$E$35,1) -> 0
A18: Собственные нужды | B18: 10 | C18: 0 | D18: 0 | E18: 0 | F18: =ROUND(C18*$C$35+D18*$D$35+E18*$E$35,1) -> 0
A19: Потери при передаче | B19: 11 | C19: 0 | D19: 0 | E19: 0 | F19: =ROUND(C19*$C$35+D19*$D$35+E19*$E$35,1) -> 0
A20: Конечное потребление энергетических ресурсов | B20: 12 | C20: =C21+C22+C25+C26+C31+C32+C33 -> 817.2 | D20: =D21+D22+D25+D26+D31+D32+D33 -> 2933.6 | E20: =E21+E22+E25+E26+E31+E32+E33 -> 261.4 | F20: =F21+F22+F25+F26+F31+F32+F33 -> 5881.7 | G20: Сумма
A21: Сельское хозяйство, рыболовство и рыбоводство | B21: 13 | C21: 0 | D21: 0 | E21: 0 | F21: =ROUND(C21*$C$35+D21*$D$35+E21*$E$35,1) -> 0
A22: Промышленность | B22: 14 | C22: =SUM(C23:C24) -> 64 | D22: =SUM(D23:D24) -> 567.7 | E22: =SUM(E23:E24) -> 218.9 | F22: =SUM(F23:F24) -> 1262.2 | G22: Сумма
A23: Продукция обрабатывающих производств | B23: 14.1 | C23: 0 | D23: 0 | E23: 0 | F23: =ROUND(C23*$C$35+D23*$D$35+E23*$E$35,1) -> 0
A24: Продукция прочих производств | B24: 14.2 | C24: 64 | D24: 567.7 | E24: 218.9 | F24: =ROUND(C24*$C$35+D24*$D$35+E24*$E$35,1) -> 1262.2
A25: Строительство | B25: 15 | C25: 0 | D25: 0 | E25: 0 | F25: =ROUND(C25*$C$35+D25*$D$35+E25*$E$35,1) -> 0
A26: Транспорт и связь | B26: 16 | C26: =SUM(C27:C30) -> 464.6 | D26: =SUM(D27:D30) -> 1461.3 | E26: =SUM(E27:E30) -> 16.3 | F26: =SUM(F27:F30) -> 2836.7 | G26: Сумма
A27: Железнодорожный | B27: 16.1 | C27: 0 | D27: 0 | E27: 0 | F27: =ROUND(C27*$C$35+D27*$D$35+E27*$E$35,1) -> 0
A28: Трубопроводный | B28: 16.2 | C28: 0 | D28: 0 | E28: 0 | F28: =ROUND(C28*$C$35+D28*$D$35+E28*$E$35,1) -> 0
A29: Автомобильный | B29: 16.3 | C29: 464.6 | D29: 1461.3 | E29: 16.3 | F29: =ROUND(C29*$C$35+D29*$D$35+E29*$E$35,1) -> 2836.7
A30: Прочий | B30: 16.4 | C30: 0 | D30: 0 | E30: 0 | F30: =ROUND(C30*$C$35+D30*$D$35+E30*$E$35,1) -> 0
A31: Сфера услуг | B31: 17 | C31: 0 | D31: 0 | E31: 0 | F31: =ROUND(C31*$C$35+D31*$D$35+E31*$E$35,1) -> 0
A32: Население | B32: 18 | C32: 288.1 | D32: 902.2 | E32: 26.2 | F32: =ROUND(C32*$C$35+D32*$D$35+E32*$E$35,1) -> 1778.6
A33: Использование ТЭР в качестве сырья и на нетопливные нужды | B33: 19 | C33: 0.5 | D33: 2.4 | E33: 0 | F33: =ROUND(C33*$C$35+D33*$D$35+E33*$E$35,1) -> 4.2
A35: Коэффициент пересчета в тонну условного топлива | C35: 1.49 | D35: 1.45 | E35: 1.57

Sheet Газ
A1: Однопродуктовый баланс природного газа МО "Город Отрадное" за 2024 г. | B1: Индекс строки | C1: Газ природный, тыс. куб. м | D1: Газ природный, т у.т. | E1: Комментарий
C2: 1 | D2: 2 | E2: 3
A3: Производство энергетических ресурсов | B3: 1 | C3: 0 | D3: =ROUND(C3*C$35,1) -> 0
A4: Ввоз | B4: 2 | C4: 33990.663 | D4: =ROUND(C4*C$35,1) -> 39225.2 | E4: Данные по отчету Газпром межрегионгаз СПб
A5: Вывоз | B5: 3 | C5: 0 | D5: =ROUND(C5*C$35,1) -> 0
A6: Изменение запасов | B6: 4 | C6: 0 | D6: =ROUND(C6*C$35,1) -> 0
A7: Потребление первичной энергии | B7: 5 | C7: =ROUND(C3+C4+C5+C6,3) -> 33990.663 | D7: =ROUND(D3+D4+D5+D6,3) -> 39225.2 | E7: Сумма строк
A8: Статистическое расхождение | B8: 6 | C8: =ROUND(C7+C9+C10+C14+C18+C19-C20,3) -> 0 | D8: =ROUND(D7+D9+D10+D14+D18+D19-D20,1) -> 0 | E8: Расчетное значение (контроль)
A9: Производство электрической энергии | B9: 7 | C9: 0 | D9: =ROUND(C9*C$35,1) -> 0
A10: Производство тепловой энергии | B10: 8 | C10: =C11+C12+C13 -> -14556.298 | D10: =D11+D12+D13 -> -16798 | E10: Сумма строк
A11: Теплоэлектростанции | B11: 8.1 | C11: 0 | D11: =ROUND(C11*C$35,1) -> 0
A12: Котельные | B12: 8.2 | C12: -14556.298 | D12: =ROUND(C12*C$35,1) -> -16798 | E12: Данные по отчету Газпром межрегионгаз СПб
A13: Электрокотельные и теплоустановки | B13: 8.3 | C13: 0 | D13: =ROUND(C13*C$35,1) -> 0
A14: Преобразование энергетических ресурсов | B14: 9 | C14: =SUM(C15:C17) -> 0 | D14: =SUM(D15:D17) -> 0
A15: Переработка нефти | B15: 9.1 | C15: 0 | D15: =ROUND(C15*C$35,1) -> 0
A16: Переработка газа | B16: 9.2 | C16: 0 | D16: =ROUND(C16*C$35,1) -> 0
A17: Обогащение угля | B17: 9.3 | C17: 0 | D17: =ROUND(C17*C$35,1) -> 0
A18: Собственные нужды | B18: 10 | C18: 0 | D18: =ROUND(C18*C$35,1) -> 0
A19: Потери при передаче | B19: 11 | C19: 0 | D19: =ROUND(C19*C$35,1) -> 0
A20: Конечное потребление энергетических ресурсов | B20: 12 | C20: =C21+C22+C25+C26+C31+C32+C33 -> 19434.365 | D20: =D21+D22+D25+D26+D31+D32+D33 -> 22427.2 | E20: Сумма строк
A21: Сельское хозяйство, рыболовство и рыбоводство | B21: 13 | C21: 0 | D21: =ROUND(C21*C$35,1) -> 0
A22: Промышленность | B22: 14 | C22: =SUM(C23:C24) -> 9013.47 | D22: =SUM(D23:D24) -> 10401.6 | E22: Сумма строк
A23: Продукция обрабатывающих производств | B23: 14.1 | C23: 7925.28 | D23: =ROUND(C23*C$35,1) -> 9145.8 | E23: Расчет по данным отчета Газпром межрегионгаз СПб
A24: Продукция прочих производств | B24: 14.2 | C24: 1088.19 | D24: =ROUND(C24*C$35,1) -> 1255.8 | E24: Расчет по данным отчета Газпром межрегионгаз СПб
A25: Строительство | B25: 15 | C25: 882.62 | D25: =ROUND(C25*C$35,1) -> 1018.5 | E25: Расчет по данным отчета Газпром межрегионгаз СПб
A26: Транспорт и связь | B26: 16 | C26: =SUM(C27:C30) -> 0 | D26: =SUM(D27:D30) -> 0
A27: Железнодорожный | B27: 16.1 | C27: 0 | D27: =ROUND(C27*C$35,1) -> 0
A28: Трубопроводный | B28: 16.2 | C28: 0 | D28: =ROUND(C28*C$35,1) -> 0
A29: Автомобильный | B29: 16.3 | D29: =ROUND(C29*C$35,1) -> 0
A30: Прочий | B30: 16.4 | D30: =ROUND(C30*C$35,1) -> 0
A31: Сфера услуг | B31: 17 | C31: 3.409 | D31: =ROUND(C31*C$35,1) -> 3.9 | E31: Данные по отчету Газпром межрегионгаз СПб
A32: Население | B32: 18 | C32: 9534.866 | D32: =ROUND(C32*C$35,1) -> 11003.2 | E32: Расчетное количество (по отчету Газпром)
A33: Использование ТЭР в качестве сырья и на нетопливные нужды | B33: 19 | C33: 0 | D33: =ROUND(C33*C$35,1) -> 0
A35: Коэффициент пересчета в тонну условного топлива | C35: 1.154
A37: Расход по отчету ЛОТЭК | C37: 14554.84
A38: Расход по отчету Газпром межрегионгаз СПб | C38: 14556.298
A39: Полное потребление по отчету Газпром (проверка суммы) | C39: =-C12+C22+C31 -> 23573.177

Sheet ПТТ
A1: Однопродуктовый баланс прочего твердого топлива МО "Город Отрадное" за 2024 г. | B1: Индекс строки | C1: Древесина топливная, плотн. куб. м | D1: Древесина топливная, т у.т. | E1: Комментарий
C2: 1 | D2: 2 | E2: 3
A3: Производство энергетических ресурсов | B3: 1 | C3: 0 | D3: =ROUND(C3*C$35,1) -> 0
A4: Ввоз | B4: 2 | C4: 567.6 | D4: =ROUND(C4*C$35,1) -> 151 | E4: Форма 4-ТЭР по городу Отрадное
A5: Вывоз | B5: 3 | C5: 0 | D5: =ROUND(C5*C$35,1) -> 0
A6: Изменение запасов | B6: 4 | C6: 12 | D6: =ROUND(C6*C$35,1) -> 3.2 | E6: Форма 4-ТЭР по городу Отрадное
A7: Потребление первичной энергии | B7: 5 | C7: =ROUND(C3+C4+C5+C6,3) -> 579.6 | D7: =ROUND(D3+D4+D5+D6,3) -> 154.2 | E7: Сумма
A8: Статистическое расхождение | B8: 6 | C8: =ROUND(C7+C9+C10+C14+C18+C19-C20,3) -> 0 | D8: =ROUND(D7+D9+D10+D14+D18+D19-D20,3) -> 0 | E8: Расчетное значение
A9: Производство электрической энергии | B9: 7 | C9: 0 | D9: =ROUND(C9*C$35,1) -> 0
A10: Производство тепловой энергии | B10: 8 | C10: =C11+C12+C13 -> 0 | D10: =D11+D12+D13 -> 0
A11: Теплоэлектростанции | B11: 8.1 | C11: 0 | D11: =ROUND(C11*C$35,1) -> 0
A12: Котельные | B12: 8.2 | C12: 0 | D12: =ROUND(C12*C$35,1) -> 0
A13: Электрокотельные и теплоустановки | B13: 8.3 | C13: 0 | D13: =ROUND(C13*C$35,1) -> 0
A14: Преобразование энергетических ресурсов | B14: 9 | C14: =SUM(C15:C17) -> 0 | D14: =SUM(D15:D17) -> 0
A15: Переработка нефти | B15: 9.1 | C15: 0 | D15: =ROUND(C15*C$35,1) -> 0
A16: Переработка газа | B16: 9.2 | C16: 0 | D16: =ROUND(C16*C$35,1) -> 0
A17: Обогащение угля | B17: 9.3 | C17: 0 | D17: =ROUND(C17*C$35,1) -> 0
A18: Собственные нужды | B18: 10 | C18: 0 | D18: =ROUND(C18*C$35,1) -> 0
A19: Потери при передаче | B19: 11 | C19: 0 | D19: =ROUND(C19*C$35,1) -> 0
A20: Конечное потребление энергетических ресурсов | B20: 12 | C20: =C21+C22+C25+C26+C31+C32+C33 -> 579.6 | D20: =D21+D22+D25+D26+D31+D32+D33 -> 154.2 | E20: Сумма
A21: Сельское хозяйство, рыболовство и рыбоводство | B21: 13 | C21: 0 | D21: =ROUND(C21*C$35,1) -> 0
A22: Промышленность | B22: 14 | C22: =SUM(C23:C24) -> 122.2 | D22: =SUM(D23:D24) -> 32.5 | E22: Сумма
A23: Продукция обрабатывающих производств | B23: 14.1 | C23: 0 | D23: =ROUND(C23*C$35,1) -> 0
A24: Продукция прочих производств | B24: 14.2 | C24: 122.2 | D24: =ROUND(C24*C$35,1) -> 32.5 | E24: Форма 4-ТЭР по городу Отрадное
A25: Строительство | B25: 15 | C25: 0 | D25: =ROUND(C25*C$35,1) -> 0
A26: Транспорт и связь | B26: 16 | C26: =SUM(C27:C30) -> 0 | D26: =SUM(D27:D30) -> 0
A27: Железнодорожный | B27: 16.1 | C27: 0 | D27: =ROUND(C27*C$35,1) -> 0
A28: Трубопроводный | B28: 16.2 | C28: 0 | D28: =ROUND(C28*C$35,1) -> 0
A29: Автомобильный | B29: 16.3 | C29: 0 | D29: =ROUND(C29*C$35,1) -> 0
A30: Прочий | B30: 16.4 | C30: 0 | D30: =ROUND(C30*C$35,1) -> 0
A31: Сфера услуг | B31: 17 | C31: 162.1 | D31: =ROUND(C31*C$35,1) -> 43.1 | E31: Форма 4-ТЭР по городу Отрадное
A32: Население | B32: 18 | C32: 289.7 | D32: =ROUND(C32*C$35,1) -> 77.1 | E32: Форма 4-ТЭР по городу Отрадное
A33: Использование ТЭР в качестве сырья и на нетопливные нужды | B33: 20 | C33: 5.6 | D33: =ROUND(C33*C$35,1) -> 1.5
A35: Коэффициент пересчета в тонну условного топлива | C35: 0.266

Sheet Электроэнергия
A1: Однопродуктовый баланс электроэнергии МО "Город Отрадное" за 2024 г. | B1: Индекс строки | C1: Электро-энергия, тыс. кВт*ч | D1: Электро-энергия, т у.т. | E1: Комментарий
C2: 1 | D2: 2 | E2: 3
A3: Производство энергетических ресурсов | B3: 1 | C3: 0 | D3: =ROUND(C3*C$35,1) -> 0
A4: Ввоз | B4: 2 | C4: 133168.66 | D4: =ROUND(C4*C$35,1) -> 16379.7
A5: Вывоз | B5: 3 | C5: 0 | D5: =ROUND(C5*C$35,1) -> 0
A6: Изменение запасов | B6: 4 | C6: 0 | D6: =ROUND(C6*C$35,1) -> 0
A7: Потребление первичной энергии | B7: 5 | C7: =C3+C4+C5+C6 -> 133168.66 | D7: =D3+D4+D5+D6 -> 16379.7 | E7: Сумма строк
A8: Статистическое расхождение | B8: 6 | C8: =ROUND(C7+C9+C10+C14+C18+C19-C20,3) -> 0 | D8: =ROUND(D7+D9+D10+D14+D18+D19-D20,3) -> 0 | E8: Расчетное значение
A9: Производство электрической энергии | B9: 7 | C9: 0 | D9: =ROUND(C9*C$35,1) -> 0
A10: Производство тепловой энергии | B10: 8 | C10: =C11+C12+C13 -> -1189.77 | D10: =D11+D12+D13 -> -146.3 | E10: Сумма строк
A11: Теплоэлектростанции | B11: 8.1 | C11: 0 | D11: =ROUND(C11*C$35,1) -> 0
A12: Котельные | B12: 8.2 | C12: -1189.77 | D12: =ROUND(C12*C$35,1) -> -146.3 | E12: Расчет на основе полного расхода ЭЭ на пр-во ТЭ
A13: Электрокотельные и теплоустановки | B13: 8.3 | C13: 0 | D13: =ROUND(C13*C$35,1) -> 0
A14: Преобразование энергетических ресурсов | B14: 9 | C14: =SUM(C15:C17) -> 0 | D14: =SUM(D15:D17) -> 0
A15: Переработка нефти | B15: 9.1 | C15: 0 | D15: =ROUND(C15*C$35,1) -> 0
A16: Переработка газа | B16: 9.2 | C16: 0 | D16: =ROUND(C16*C$35,1) -> 0
A17: Обогащение угля | B17: 9.3 | C17: 0 | D17: =ROUND(C17*C$35,1) -> 0
A18: Собственные нужды | B18: 10 | C18: 0 | D18: =ROUND(C18*C$35,1) -> 0
A19: Потери при передаче | B19: 11 | C19: -12102.6 | D19: =ROUND(C19*C$35,1) -> -1488.6 | E19: Расчетные потери
A20: Конечное потребление энергетических ресурсов | B20: 12 | C20: =C21+C22+C25+C26+C31+C32+C33 -> 119876.29 | D20: =D21+D22+D25+D26+D31+D32+D33 -> 14744.8 | E20: Сумма строк
A21: Сельское хозяйство, рыболовство и рыбоводство | B21: 13 | C21: 0 | D21: =ROUND(C21*C$35,1) -> 0
A22: Промышленность | B22: 14 | C22: =SUM(C23:C24) -> 78901.84 | D22: =SUM(D23:D24) -> 9704.9 | E22: Сумма строк
A23: Продукция обрабатывающих производств | B23: 14.1 | C23: 51014.2 | D23: =ROUND(C23*C$35,1) -> 6274.7 | E23: 23-Н
A24: Продукция прочих производств | B24: 14.2 | C24: 27887.64 | D24: =ROUND(C24*C$35,1) -> 3430.2 | E24: 23-Н
A25: Строительство | B25: 15 | C25: 508.66 | D25: =ROUND(C25*C$35,1) -> 62.6 | E25: Расчет по данным формы 23-Н
A26: Транспорт и связь | B26: 16 | C26: =SUM(C27:C30) -> 266.88 | D26: =SUM(D27:D30) -> 32.8 | E26: Сумма строк
A27: Железнодорожный | B27: 16.1 | C27: 0 | D27: =ROUND(C27*C$35,1) -> 0
A28: Трубопроводный | B28: 16.2 | C28: 0 | D28: =ROUND(C28*C$35,1) -> 0
A29: Автомобильный | B29: 16.3 | C29: 0 | D29: =ROUND(C29*C$35,1) -> 0
A30: Прочий | B30: 16.4 | C30: 266.88 | D30: =ROUND(C30*C$35,1) -> 32.8 | E30: Расчет на основе данных о потреблении района
A31: Сфера услуг | B31: 17 | C31: 4268.97 | D31: =ROUND(C31*C$35,1) -> 525.1 | E31: Расчет на основе данных о потреблении района
A32: Население | B32: 18 | C32: 35929.94 | D32: =ROUND(C32*C$35,1) -> 4419.4 | E32: Расчет на основе данных ГИС ТЭК
A33: Использование ТЭР в качестве сырья и на нетопливные нужды | B33: 19 | C33: 0 | D33: =ROUND(C33*C$35,1) -> 0
A35: Коэффициент пересчета в тонну условного топлива | C35: 0.123

Sheet Тепло
A1: Однопродуктовый баланс тепловой энергии МО "Город Отрадное" за 2024 г. | B1: Индекс строки | C1: Тепловая энергия, Гкал | D1: Тепловая энергия, т у.т. | E1: Комментарий
C2: 1 | D2: 2 | E2: 3
A3: Производство энергетических ресурсов | B3: 1 | C3: 0 | D3: =ROUND(C3*C$35,1) -> 0
A4: Ввоз | B4: 2 | C4: 409.03 | D4: =ROUND(C4*C$35,1) -> 58.5 | E4: Данные по отчету ЛОТЭК
A5: Вывоз | B5: 3 | C5: 0 | D5: =ROUND(C5*C$35,1) -> 0
A6: Изменение запасов | B6: 4 | C6: 0 | D6: =ROUND(C6*C$35,1) -> 0
A7: Потребление первичной энергии | B7: 5 | C7: =C3+C4+C5+C6 -> 409.03 | D7: =D3+D4+D5+D6 -> 58.5 | E7: Сумма
A8: Статистическое расхождение | B8: 6 | C8: =ROUND(C7+C9+C10+C14+C18+C19-C20,2) -> 0 | D8: =ROUND(D7+D9+D10+D14+D18+D19-D20,1) -> 0 | E8: Расчетное значение
A9: Производство электрической энергии | B9: 7 | C9: 0 | D9: =ROUND(C9*C$35,1) -> 0
A10: Производство тепловой энергии | B10: 8 | C10: =C11+C12+C13 -> 108422.04 | D10: =D11+D12+D13 -> 15504.4 | E10: Сумма строк 11:13
A11: Теплоэлектростанции | B11: 8.1 | C11: 0 | D11: =ROUND(C11*C$35,1) -> 0
A12: Котельные | B12: 8.2 | C12: 108422.04 | D12: =ROUND(C12*C$35,1) -> 15504.4 | E12: Данные по отчету ЛОТЭК
A13: Электрокотельные и теплоустановки | B13: 8.3 | C13: 0 | D13: =ROUND(C13*C$35,1) -> 0
A14: Преобразование энергетических ресурсов | B14: 9 | C14: =SUM(C15:C17) -> 0 | D14: =SUM(D15:D17) -> 0
A15: Переработка нефти | B15: 9.1 | C15: 0 | D15: =ROUND(C15*C$35,1) -> 0
A16: Переработка газа | B16: 9.2 | C16: 0 | D16: =ROUND(C16*C$35,1) -> 0
A17: Обогащение угля | B17: 9.3 | C17: 0 | D17: =ROUND(C17*C$35,1) -> 0
A18: Собственные нужды | B18: 10 | C18: -4793.25 | D18: =ROUND(C18*C$35,1) -> -685.4 | E18: Данные по отчету ЛОТЭК
A19: Потери при передаче | B19: 11 | C19: -8589.91 | D19: =ROUND(C19*C$35,1) -> -1228.4 | E19: Данные по отчету ЛОТЭК
A20: Конечное потребление энергетических ресурсов | B20: 12 | C20: =C21+C22+C25+C26+C31+C32+C33 -> 95447.91 | D20: =D21+D22+D25+D26+D31+D32+D33 -> 13649.1 | E20: Сумма
A21: Сельское хозяйство, рыболовство и рыбоводство | B21: 13 | C21: 0 | D21: =ROUND(C21*C$35,1) -> 0
A22: Промышленность | B22: 14 | C22: =SUM(C23:C24) -> 2056.49 | D22: =SUM(D23:D24) -> 294.1 | E22: Сумма (по отчету ЛОТЭК)
A23: Продукция обрабатывающих производств | B23: 14.1 | C23: 930.5 | D23: =ROUND(C23*C$35,1) -> 133.1 | E23: Данные НЭМО
A24: Продукция прочих производств | B24: 14.2 | C24: 1125.99 | D24: =ROUND(C24*C$35,1) -> 161 | E24: Расчет по данным ЛОТЭК
A25: Строительство | B25: 15 | C25: 189.44 | D25: =ROUND(C25*C$35,1) -> 27.1 | E25: Расчет по данным ЛОТЭК
A26: Транспорт и связь | B26: 16 | C26: =SUM(C27:C30) -> 365.06 | D26: =SUM(D27:D30) -> 52.2 | E26: Сумма
A27: Железнодорожный | B27: 16.1 | C27: 0 | D27: =ROUND(C27*C$35,1) -> 0
A28: Трубопроводный | B28: 16.2 | C28: 0 | D28: =ROUND(C28*C$35,1) -> 0
A29: Автомобильный | B29: 16.3 | C29: 226.2 | D29: =ROUND(C29*C$35,1) -> 32.3 | E29: Расчет по данным 4-ТЭР
A30: Прочий | B30: 16.4 | C30: 138.86 | D30: =ROUND(C30*C$35,1) -> 19.9 | E30: Расчет по данным 4-ТЭР
A31: Сфера услуг | B31: 17 | C31: 9687.78 | D31: =ROUND(C31*C$35,1) -> 1385.4 | E31: Данные по отчету ЛОТЭК
A32: Население | B32: 18 | C32: 83149.14 | D32: =ROUND(C32*C$35,1) -> 11890.3 | E32: Данные по отчету ЛОТЭК
A33: Использование ТЭР в качестве сырья и на нетопливные нужды | B33: 19 | C33: 0 | D33: =ROUND(C33*C$35,1) -> 0
A35: Коэффициент пересчета в тонну условного топлива | C35: 0.143
